BEGIN:VCALENDAR
VERSION:2.0
PRODID:-//Water Alliance Events - ECPv6.14.2//NONSGML v1.0//EN
CALSCALE:GREGORIAN
METHOD:PUBLISH
X-ORIGINAL-URL:https://events.wateralliance.nl
X-WR-CALDESC:Evenementen voor Water Alliance Events
REFRESH-INTERVAL;VALUE=DURATION:PT1H
X-Robots-Tag:noindex
X-PUBLISHED-TTL:PT1H
BEGIN:VTIMEZONE
TZID:UTC
BEGIN:STANDARD
TZOFFSETFROM:+0000
TZOFFSETTO:+0000
TZNAME:UTC
DTSTART:20260101T000000
END:STANDARD
END:VTIMEZONE
BEGIN:VTIMEZONE
TZID:UTC
BEGIN:STANDARD
TZOFFSETFROM:+0000
TZOFFSETTO:+0000
TZNAME:UTC
DTSTART:20260101T000000
END:STANDARD
END:VTIMEZONE
BEGIN:VEVENT
DTSTART;VALUE=DATE:20260609
DTEND;VALUE=DATE:20260614
DTSTAMP:20260419T130055
CREATED:20250911T145923Z
LAST-MODIFIED:20250911T150046Z
UID:1153-1780963200-1781395199@events.wateralliance.nl
SUMMARY:IWA Valencia
DESCRIPTION:Deze website is alleen toegankelijk voor Water Alliance leden.\nAanmelden
URL:https://events.wateralliance.nl/event/iwa-9-13-juni-2026-valencia/
LOCATION:Spanje\, Spain
CATEGORIES:Congres
END:VEVENT
BEGIN:VEVENT
DTSTART;VALUE=DATE:20260610
DTEND;VALUE=DATE:20260613
DTSTAMP:20260419T130055
CREATED:20250805T121601Z
LAST-MODIFIED:20250805T121918Z
UID:1099-1781049600-1781308799@events.wateralliance.nl
SUMMARY:IE Expo Chengdu
DESCRIPTION:Deze website is alleen toegankelijk voor Water Alliance leden.\nAanmelden
URL:https://events.wateralliance.nl/event/ie-expo-chengdu/
LOCATION:China\, China
CATEGORIES:Congres,Vakbeurs
END:VEVENT
END:VCALENDAR