BEGIN:VCALENDAR
VERSION:2.0
PRODID:-//Water Alliance Events - ECPv6.14.2//NONSGML v1.0//EN
CALSCALE:GREGORIAN
METHOD:PUBLISH
X-WR-CALNAME:Water Alliance Events
X-ORIGINAL-URL:https://events.wateralliance.nl
X-WR-CALDESC:Evenementen voor Water Alliance Events
REFRESH-INTERVAL;VALUE=DURATION:PT1H
X-Robots-Tag:noindex
X-PUBLISHED-TTL:PT1H
BEGIN:VTIMEZONE
TZID:UTC
BEGIN:STANDARD
TZOFFSETFROM:+0000
TZOFFSETTO:+0000
TZNAME:UTC
DTSTART:20250101T000000
END:STANDARD
END:VTIMEZONE
BEGIN:VEVENT
DTSTART;VALUE=DATE:20251028
DTEND;VALUE=DATE:20251029
DTSTAMP:20260420T044907
CREATED:20250724T090614Z
LAST-MODIFIED:20250724T095016Z
UID:989-1761609600-1761695999@events.wateralliance.nl
SUMMARY:WaterCampus Business Café: Bouw je eigen AI assistent
DESCRIPTION:Deze website is alleen toegankelijk voor Water Alliance leden.\nAanmelden
URL:https://events.wateralliance.nl/event/watercampus-business-cafe-ai-in-actie/
LOCATION:Nederland\, Netherlands
CATEGORIES:met Water Alliance,Workshop
END:VEVENT
BEGIN:VEVENT
DTSTART;TZID=UTC:20251111T113000
DTEND;TZID=UTC:20251111T170000
DTSTAMP:20260420T044907
CREATED:20250916T081614Z
LAST-MODIFIED:20250916T081913Z
UID:1196-1762860600-1762880400@events.wateralliance.nl
SUMMARY:Water & Agridag
DESCRIPTION:Deze website is alleen toegankelijk voor Water Alliance leden.\nAanmelden
URL:https://events.wateralliance.nl/event/1196/
LOCATION:Nederland\, Netherlands
CATEGORIES:met Water Alliance
END:VEVENT
BEGIN:VEVENT
DTSTART;VALUE=DATE:20251112
DTEND;VALUE=DATE:20251113
DTSTAMP:20260420T044907
CREATED:20251021T114449Z
LAST-MODIFIED:20251021T114542Z
UID:1218-1762905600-1762991999@events.wateralliance.nl
SUMMARY:Bouwtafelsessie: Waterzuinige Wijken
DESCRIPTION:Deze website is alleen toegankelijk voor Water Alliance leden.\nAanmelden
URL:https://events.wateralliance.nl/event/bouwtafelsessie-waterzuinige-wijken/
LOCATION:Nederland\, Netherlands
CATEGORIES:met Water Alliance,Workshop
END:VEVENT
BEGIN:VEVENT
DTSTART;VALUE=DATE:20251204
DTEND;VALUE=DATE:20251205
DTSTAMP:20260420T044907
CREATED:20250724T110953Z
LAST-MODIFIED:20251021T115503Z
UID:522-1764806400-1764892799@events.wateralliance.nl
SUMMARY:Water Alliance Ledendag
DESCRIPTION:Deze website is alleen toegankelijk voor Water Alliance leden.\nAanmelden
URL:https://events.wateralliance.nl/event/water-alliance-ledendag/
LOCATION:Nederland\, Netherlands
CATEGORIES:met Water Alliance,Netwerkevenement
END:VEVENT
BEGIN:VEVENT
DTSTART;VALUE=DATE:20260128
DTEND;VALUE=DATE:20260129
DTSTAMP:20260420T044908
CREATED:20251113T145732Z
LAST-MODIFIED:20251113T145902Z
UID:1251-1769558400-1769644799@events.wateralliance.nl
SUMMARY:Watervisie
DESCRIPTION:Deze website is alleen toegankelijk voor Water Alliance leden.\nAanmelden
URL:https://events.wateralliance.nl/event/watervisie/
LOCATION:Nederland\, Netherlands
CATEGORIES:Congres,met Water Alliance
END:VEVENT
BEGIN:VEVENT
DTSTART;VALUE=DATE:20260317
DTEND;VALUE=DATE:20260320
DTSTAMP:20260420T044908
CREATED:20250624T074117Z
LAST-MODIFIED:20260109T095430Z
UID:474-1773705600-1773964799@events.wateralliance.nl
SUMMARY:Aqua Nederland
DESCRIPTION:Deze website is alleen toegankelijk voor Water Alliance leden.\nAanmelden
URL:https://events.wateralliance.nl/event/aqua-nederland/
LOCATION:Nederland\, Netherlands
CATEGORIES:met Water Alliance,Vakbeurs
END:VEVENT
BEGIN:VEVENT
DTSTART;VALUE=DATE:20260323
DTEND;VALUE=DATE:20260328
DTSTAMP:20260420T044908
CREATED:20251021T115957Z
LAST-MODIFIED:20251021T120256Z
UID:1223-1774224000-1774655999@events.wateralliance.nl
SUMMARY:European WaterCampus Business Challenge
DESCRIPTION:Deze website is alleen toegankelijk voor Water Alliance leden.\nAanmelden
URL:https://events.wateralliance.nl/event/european-watercampus-business-challenge/
LOCATION:Nederland\, Netherlands
CATEGORIES:met Water Alliance,Workshop
ORGANIZER;CN="Roxane":MAILTO:r.yazdanpanah@wateralliance.nl
END:VEVENT
BEGIN:VEVENT
DTSTART;VALUE=DATE:20260504
DTEND;VALUE=DATE:20260508
DTSTAMP:20260420T044908
CREATED:20250624T124613Z
LAST-MODIFIED:20260109T094616Z
UID:525-1777852800-1778198399@events.wateralliance.nl
SUMMARY:IFAT München
DESCRIPTION:Deze website is alleen toegankelijk voor Water Alliance leden.\nAanmelden
URL:https://events.wateralliance.nl/event/ifat-munchen/
LOCATION:Duitsland\, Germany
CATEGORIES:met Water Alliance,Vakbeurs
END:VEVENT
BEGIN:VEVENT
DTSTART;VALUE=DATE:20260926
DTEND;VALUE=DATE:20261001
DTSTAMP:20260420T044908
CREATED:20250624T134003Z
LAST-MODIFIED:20260109T100547Z
UID:569-1790380800-1790812799@events.wateralliance.nl
SUMMARY:WEFTEC New Orleans
DESCRIPTION:Deze website is alleen toegankelijk voor Water Alliance leden.\nAanmelden
URL:https://events.wateralliance.nl/event/weftec/
LOCATION:Verenigde Staten\, United States
CATEGORIES:Congres,met Water Alliance,Vakbeurs
END:VEVENT
BEGIN:VEVENT
DTSTART;VALUE=DATE:20261103
DTEND;VALUE=DATE:20261107
DTSTAMP:20260420T044908
CREATED:20250617T125037Z
LAST-MODIFIED:20251209T145415Z
UID:325-1793664000-1794009599@events.wateralliance.nl
SUMMARY:Ecomondo
DESCRIPTION:Deze website is alleen toegankelijk voor Water Alliance leden.\nAanmelden
URL:https://events.wateralliance.nl/event/ecomondo/
LOCATION:Italië\, Italy
CATEGORIES:Congres,met Water Alliance,Vakbeurs
END:VEVENT
BEGIN:VEVENT
DTSTART;VALUE=DATE:20270309
DTEND;VALUE=DATE:20270313
DTSTAMP:20260420T044908
CREATED:20250701T132601Z
LAST-MODIFIED:20250703T121037Z
UID:718-1804550400-1804895999@events.wateralliance.nl
SUMMARY:Aquatech Amsterdam
DESCRIPTION:Deze website is alleen toegankelijk voor Water Alliance leden.\nAanmelden
URL:https://events.wateralliance.nl/event/aquatech-amsterdam/
LOCATION:Nederland\, Netherlands
CATEGORIES:met Water Alliance,Vakbeurs
END:VEVENT
END:VCALENDAR