BEGIN:VCALENDAR
VERSION:2.0
PRODID:-//Water Alliance Events - ECPv6.14.2//NONSGML v1.0//EN
CALSCALE:GREGORIAN
METHOD:PUBLISH
X-WR-CALNAME:Water Alliance Events
X-ORIGINAL-URL:https://events.wateralliance.nl
X-WR-CALDESC:Evenementen voor Water Alliance Events
REFRESH-INTERVAL;VALUE=DURATION:PT1H
X-Robots-Tag:noindex
X-PUBLISHED-TTL:PT1H
BEGIN:VTIMEZONE
TZID:UTC
BEGIN:STANDARD
TZOFFSETFROM:+0000
TZOFFSETTO:+0000
TZNAME:UTC
DTSTART:20250101T000000
END:STANDARD
END:VTIMEZONE
BEGIN:VTIMEZONE
TZID:UTC
BEGIN:STANDARD
TZOFFSETFROM:+0000
TZOFFSETTO:+0000
TZNAME:UTC
DTSTART:20250101T000000
END:STANDARD
END:VTIMEZONE
BEGIN:VEVENT
DTSTART;VALUE=DATE:20251102
DTEND;VALUE=DATE:20251106
DTSTAMP:20260419T234803
CREATED:20250805T101913Z
LAST-MODIFIED:20250805T101946Z
UID:1053-1762041600-1762387199@events.wateralliance.nl
SUMMARY:National Water & Wastewater Conference
DESCRIPTION:Deze website is alleen toegankelijk voor Water Alliance leden.\nAanmelden
URL:https://events.wateralliance.nl/event/national-water-wastewater-conference/
LOCATION:Canada\, Canada
CATEGORIES:Congres,Vakbeurs
END:VEVENT
BEGIN:VEVENT
DTSTART;VALUE=DATE:20251103
DTEND;VALUE=DATE:20251105
DTSTAMP:20260419T234803
CREATED:20250626T095416Z
LAST-MODIFIED:20250804T114947Z
UID:604-1762128000-1762300799@events.wateralliance.nl
SUMMARY:Stormwater Europe
DESCRIPTION:Deze website is alleen toegankelijk voor Water Alliance leden.\nAanmelden
URL:https://events.wateralliance.nl/event/stormwater-europe-2025/
LOCATION:Nederland\, Netherlands
CATEGORIES:Congres,Vakbeurs
END:VEVENT
BEGIN:VEVENT
DTSTART;VALUE=DATE:20251104
DTEND;VALUE=DATE:20251107
DTSTAMP:20260419T234803
CREATED:20250701T125805Z
LAST-MODIFIED:20250703T134035Z
UID:706-1762214400-1762473599@events.wateralliance.nl
SUMMARY:Smart City Expo World Congress
DESCRIPTION:Deze website is alleen toegankelijk voor Water Alliance leden.\nAanmelden
URL:https://events.wateralliance.nl/event/smart-city-expo-world-congress/
LOCATION:Spanje\, Spain
CATEGORIES:Congres,Vakbeurs
END:VEVENT
BEGIN:VEVENT
DTSTART;VALUE=DATE:20251105
DTEND;VALUE=DATE:20251107
DTSTAMP:20260419T234803
CREATED:20250723T083216Z
LAST-MODIFIED:20250723T090515Z
UID:945-1762300800-1762473599@events.wateralliance.nl
SUMMARY:Water Treatment Europe
DESCRIPTION:Deze website is alleen toegankelijk voor Water Alliance leden.\nAanmelden
URL:https://events.wateralliance.nl/event/water-treatment-europe/
LOCATION:Nederland\, Netherlands
CATEGORIES:Congres,Vakbeurs
END:VEVENT
BEGIN:VEVENT
DTSTART;VALUE=DATE:20251105
DTEND;VALUE=DATE:20251108
DTSTAMP:20260419T234803
CREATED:20250701T123534Z
LAST-MODIFIED:20250703T133938Z
UID:683-1762300800-1762559999@events.wateralliance.nl
SUMMARY:Aquatech China
DESCRIPTION:Deze website is alleen toegankelijk voor Water Alliance leden.\nAanmelden
URL:https://events.wateralliance.nl/event/aquatech-china/
LOCATION:China\, China
CATEGORIES:Vakbeurs
END:VEVENT
BEGIN:VEVENT
DTSTART;VALUE=DATE:20251105
DTEND;VALUE=DATE:20251108
DTSTAMP:20260419T234803
CREATED:20250701T130211Z
LAST-MODIFIED:20250703T133441Z
UID:712-1762300800-1762559999@events.wateralliance.nl
SUMMARY:Vietwater
DESCRIPTION:Deze website is alleen toegankelijk voor Water Alliance leden.\nAanmelden
URL:https://events.wateralliance.nl/event/712/
LOCATION:Vietnam\, Viet Nam
CATEGORIES:Congres,Vakbeurs
END:VEVENT
BEGIN:VEVENT
DTSTART;TZID=UTC:20251107T080000
DTEND;TZID=UTC:20251107T170000
DTSTAMP:20260419T234803
CREATED:20251107T095219Z
LAST-MODIFIED:20251107T095256Z
UID:1246-1762502400-1762534800@events.wateralliance.nl
SUMMARY:CleanTech Xpo
DESCRIPTION:Deze website is alleen toegankelijk voor Water Alliance leden.\nAanmelden
URL:https://events.wateralliance.nl/event/cleantech-xpo/
LOCATION:België\, Belgium
CATEGORIES:Congres,Vakbeurs
END:VEVENT
BEGIN:VEVENT
DTSTART;VALUE=DATE:20251109
DTEND;VALUE=DATE:20251113
DTSTAMP:20260419T234803
CREATED:20250805T095615Z
LAST-MODIFIED:20250805T095757Z
UID:1049-1762646400-1762991999@events.wateralliance.nl
SUMMARY:Water Quality Technology Conference
DESCRIPTION:Deze website is alleen toegankelijk voor Water Alliance leden.\nAanmelden
URL:https://events.wateralliance.nl/event/water-quality-technology-conference/
LOCATION:Verenigde Staten\, United States
CATEGORIES:Congres,Vakbeurs
END:VEVENT
BEGIN:VEVENT
DTSTART;VALUE=DATE:20251111
DTEND;VALUE=DATE:20251114
DTSTAMP:20260419T234803
CREATED:20250911T144303Z
LAST-MODIFIED:20250911T144437Z
UID:1147-1762819200-1763078399@events.wateralliance.nl
SUMMARY:EFIAQUA
DESCRIPTION:Deze website is alleen toegankelijk voor Water Alliance leden.\nAanmelden
URL:https://events.wateralliance.nl/event/efiaqua/
LOCATION:Spanje\, Spain
CATEGORIES:Vakbeurs
END:VEVENT
BEGIN:VEVENT
DTSTART;VALUE=DATE:20251111
DTEND;VALUE=DATE:20251113
DTSTAMP:20260419T234803
CREATED:20250724T105715Z
LAST-MODIFIED:20250724T105739Z
UID:955-1762819200-1762991999@events.wateralliance.nl
SUMMARY:European Biosolids and Bioresources Conference
DESCRIPTION:Deze website is alleen toegankelijk voor Water Alliance leden.\nAanmelden
URL:https://events.wateralliance.nl/event/european-biosolids-and-bioresources-conference/
LOCATION:Verenigd Koninkrijk\, United Kingdom
CATEGORIES:Congres,Vakbeurs
END:VEVENT
BEGIN:VEVENT
DTSTART;VALUE=DATE:20251111
DTEND;VALUE=DATE:20251114
DTSTAMP:20260419T234803
CREATED:20250819T063526Z
LAST-MODIFIED:20250819T075505Z
UID:1109-1762819200-1763078399@events.wateralliance.nl
SUMMARY:Vakbeurs Recycling
DESCRIPTION:Deze website is alleen toegankelijk voor Water Alliance leden.\nAanmelden
URL:https://events.wateralliance.nl/event/vakbeurs-recycling/
LOCATION:Nederland\, Netherlands
CATEGORIES:Vakbeurs
END:VEVENT
BEGIN:VEVENT
DTSTART;VALUE=DATE:20251119
DTEND;VALUE=DATE:20251123
DTSTAMP:20260419T234803
CREATED:20250630T065105Z
LAST-MODIFIED:20250804T120558Z
UID:626-1763510400-1763855999@events.wateralliance.nl
SUMMARY:Made Expo
DESCRIPTION:Deze website is alleen toegankelijk voor Water Alliance leden.\nAanmelden
URL:https://events.wateralliance.nl/event/made-expo-2025/
LOCATION:Italië\, Italy
CATEGORIES:Vakbeurs
END:VEVENT
BEGIN:VEVENT
DTSTART;VALUE=DATE:20251124
DTEND;VALUE=DATE:20251201
DTSTAMP:20260419T234803
CREATED:20250701T130053Z
LAST-MODIFIED:20250703T143627Z
UID:707-1763942400-1764547199@events.wateralliance.nl
SUMMARY:Canada Climate Week Xchange (CCWX)
DESCRIPTION:Deze website is alleen toegankelijk voor Water Alliance leden.\nAanmelden
URL:https://events.wateralliance.nl/event/ccwx/
LOCATION:Canada\, Canada
CATEGORIES:Vakbeurs
END:VEVENT
END:VCALENDAR