BEGIN:VCALENDAR
VERSION:2.0
PRODID:-//Water Alliance Events - ECPv6.14.2//NONSGML v1.0//EN
CALSCALE:GREGORIAN
METHOD:PUBLISH
X-WR-CALNAME:Water Alliance Events
X-ORIGINAL-URL:https://events.wateralliance.nl
X-WR-CALDESC:Evenementen voor Water Alliance Events
REFRESH-INTERVAL;VALUE=DURATION:PT1H
X-Robots-Tag:noindex
X-PUBLISHED-TTL:PT1H
BEGIN:VTIMEZONE
TZID:UTC
BEGIN:STANDARD
TZOFFSETFROM:+0000
TZOFFSETTO:+0000
TZNAME:UTC
DTSTART:20250101T000000
END:STANDARD
END:VTIMEZONE
BEGIN:VTIMEZONE
TZID:UTC
BEGIN:STANDARD
TZOFFSETFROM:+0000
TZOFFSETTO:+0000
TZNAME:UTC
DTSTART:20250101T000000
END:STANDARD
END:VTIMEZONE
BEGIN:VEVENT
DTSTART;VALUE=DATE:20251109
DTEND;VALUE=DATE:20251113
DTSTAMP:20260420T011305
CREATED:20250805T095615Z
LAST-MODIFIED:20250805T095757Z
UID:1049-1762646400-1762991999@events.wateralliance.nl
SUMMARY:Water Quality Technology Conference
DESCRIPTION:Deze website is alleen toegankelijk voor Water Alliance leden.\nAanmelden
URL:https://events.wateralliance.nl/event/water-quality-technology-conference/
LOCATION:Verenigde Staten\, United States
CATEGORIES:Congres,Vakbeurs
END:VEVENT
BEGIN:VEVENT
DTSTART;VALUE=DATE:20251111
DTEND;VALUE=DATE:20251114
DTSTAMP:20260420T011305
CREATED:20250911T144303Z
LAST-MODIFIED:20250911T144437Z
UID:1147-1762819200-1763078399@events.wateralliance.nl
SUMMARY:EFIAQUA
DESCRIPTION:Deze website is alleen toegankelijk voor Water Alliance leden.\nAanmelden
URL:https://events.wateralliance.nl/event/efiaqua/
LOCATION:Spanje\, Spain
CATEGORIES:Vakbeurs
END:VEVENT
BEGIN:VEVENT
DTSTART;VALUE=DATE:20251111
DTEND;VALUE=DATE:20251113
DTSTAMP:20260420T011305
CREATED:20250724T105715Z
LAST-MODIFIED:20250724T105739Z
UID:955-1762819200-1762991999@events.wateralliance.nl
SUMMARY:European Biosolids and Bioresources Conference
DESCRIPTION:Deze website is alleen toegankelijk voor Water Alliance leden.\nAanmelden
URL:https://events.wateralliance.nl/event/european-biosolids-and-bioresources-conference/
LOCATION:Verenigd Koninkrijk\, United Kingdom
CATEGORIES:Congres,Vakbeurs
END:VEVENT
BEGIN:VEVENT
DTSTART;VALUE=DATE:20251111
DTEND;VALUE=DATE:20251114
DTSTAMP:20260420T011305
CREATED:20250819T063526Z
LAST-MODIFIED:20250819T075505Z
UID:1109-1762819200-1763078399@events.wateralliance.nl
SUMMARY:Vakbeurs Recycling
DESCRIPTION:Deze website is alleen toegankelijk voor Water Alliance leden.\nAanmelden
URL:https://events.wateralliance.nl/event/vakbeurs-recycling/
LOCATION:Nederland\, Netherlands
CATEGORIES:Vakbeurs
END:VEVENT
END:VCALENDAR