BEGIN:VCALENDAR
VERSION:2.0
PRODID:-//Water Alliance Events - ECPv6.14.2//NONSGML v1.0//EN
CALSCALE:GREGORIAN
METHOD:PUBLISH
X-WR-CALNAME:Water Alliance Events
X-ORIGINAL-URL:https://events.wateralliance.nl
X-WR-CALDESC:Evenementen voor Water Alliance Events
REFRESH-INTERVAL;VALUE=DURATION:PT1H
X-Robots-Tag:noindex
X-PUBLISHED-TTL:PT1H
BEGIN:VTIMEZONE
TZID:UTC
BEGIN:STANDARD
TZOFFSETFROM:+0000
TZOFFSETTO:+0000
TZNAME:UTC
DTSTART:20260101T000000
END:STANDARD
END:VTIMEZONE
BEGIN:VTIMEZONE
TZID:UTC
BEGIN:STANDARD
TZOFFSETFROM:+0000
TZOFFSETTO:+0000
TZNAME:UTC
DTSTART:20260101T000000
END:STANDARD
END:VTIMEZONE
BEGIN:VEVENT
DTSTART;VALUE=DATE:20260323
DTEND;VALUE=DATE:20260328
DTSTAMP:20260419T203624
CREATED:20251021T115957Z
LAST-MODIFIED:20251021T120256Z
UID:1223-1774224000-1774655999@events.wateralliance.nl
SUMMARY:European WaterCampus Business Challenge
DESCRIPTION:Deze website is alleen toegankelijk voor Water Alliance leden.\nAanmelden
URL:https://events.wateralliance.nl/event/european-watercampus-business-challenge/
LOCATION:Nederland\, Netherlands
CATEGORIES:met Water Alliance,Workshop
ORGANIZER;CN="Roxane":MAILTO:r.yazdanpanah@wateralliance.nl
END:VEVENT
BEGIN:VEVENT
DTSTART;VALUE=DATE:20260323
DTEND;VALUE=DATE:20260328
DTSTAMP:20260419T203624
CREATED:20260129T085907Z
LAST-MODIFIED:20260129T090258Z
UID:1401-1774224000-1774655999@events.wateralliance.nl
SUMMARY:Factfindingmissie Brazilië: Water- en klimaatsector
DESCRIPTION:Deze website is alleen toegankelijk voor Water Alliance leden.\nAanmelden
URL:https://events.wateralliance.nl/event/factfindingmissie-brazilie-water-en-klimaatsector/
LOCATION:Brazilië\, Brazil
CATEGORIES:Handelsmissie
END:VEVENT
BEGIN:VEVENT
DTSTART;VALUE=DATE:20260330
DTEND;VALUE=DATE:20260401
DTSTAMP:20260419T203624
CREATED:20260108T155509Z
LAST-MODIFIED:20260108T160048Z
UID:1345-1774828800-1775001599@events.wateralliance.nl
SUMMARY:MENA Stormwater Conference
DESCRIPTION:Deze website is alleen toegankelijk voor Water Alliance leden.\nAanmelden
URL:https://events.wateralliance.nl/event/mena-stormwater-conference/
LOCATION:Verenigde Arabische Emiraten\, United Arab Emirates
CATEGORIES:Congres,Vakbeurs
END:VEVENT
BEGIN:VEVENT
DTSTART;TZID=UTC:20260331T140000
DTEND;TZID=UTC:20260331T153000
DTSTAMP:20260419T203624
CREATED:20260120T122751Z
LAST-MODIFIED:20260120T122751Z
UID:1358-1774965600-1774971000@events.wateralliance.nl
SUMMARY:Webinar: An Introduction to Electrodialysis | EMI Twente
DESCRIPTION:Deze website is alleen toegankelijk voor Water Alliance leden.\nAanmelden
URL:https://events.wateralliance.nl/event/webinar-an-introduction-to-electrodialysis-emi-twente/
END:VEVENT
BEGIN:VEVENT
DTSTART;VALUE=DATE:20260407
DTEND;VALUE=DATE:20260410
DTSTAMP:20260419T203624
CREATED:20250624T085517Z
LAST-MODIFIED:20250703T130506Z
UID:489-1775520000-1775779199@events.wateralliance.nl
SUMMARY:Middle East Energy
DESCRIPTION:Deze website is alleen toegankelijk voor Water Alliance leden.\nAanmelden
URL:https://events.wateralliance.nl/event/middle-east-energy/
LOCATION:Verenigde Arabische Emiraten\, United Arab Emirates
CATEGORIES:Vakbeurs
END:VEVENT
BEGIN:VEVENT
DTSTART;VALUE=DATE:20260407
DTEND;VALUE=DATE:20260410
DTSTAMP:20260419T203624
CREATED:20250624T085922Z
LAST-MODIFIED:20250703T130237Z
UID:501-1775520000-1775779199@events.wateralliance.nl
SUMMARY:Asia Water
DESCRIPTION:Deze website is alleen toegankelijk voor Water Alliance leden.\nAanmelden
URL:https://events.wateralliance.nl/event/asia-water/
LOCATION:Maleisië\, Malaysia
CATEGORIES:Vakbeurs
END:VEVENT
BEGIN:VEVENT
DTSTART;VALUE=DATE:20260413
DTEND;VALUE=DATE:20260418
DTSTAMP:20260419T203624
CREATED:20250911T150437Z
LAST-MODIFIED:20250911T150511Z
UID:1158-1776038400-1776470399@events.wateralliance.nl
SUMMARY:Fenacore
DESCRIPTION:Deze website is alleen toegankelijk voor Water Alliance leden.\nAanmelden
URL:https://events.wateralliance.nl/event/fenacore/
LOCATION:Spanje\, Spain
END:VEVENT
BEGIN:VEVENT
DTSTART;VALUE=DATE:20260413
DTEND;VALUE=DATE:20260415
DTSTAMP:20260419T203624
CREATED:20250624T090415Z
LAST-MODIFIED:20250703T130411Z
UID:505-1776038400-1776211199@events.wateralliance.nl
SUMMARY:Smart Water Systems Conference
DESCRIPTION:Deze website is alleen toegankelijk voor Water Alliance leden.\nAanmelden
URL:https://events.wateralliance.nl/event/smart-water-systems-conference/
LOCATION:Verenigd Koninkrijk\, United Kingdom
CATEGORIES:Congres
END:VEVENT
BEGIN:VEVENT
DTSTART;VALUE=DATE:20260413
DTEND;VALUE=DATE:20260416
DTSTAMP:20260419T203624
CREATED:20250630T101031Z
LAST-MODIFIED:20250703T130145Z
UID:632-1776038400-1776297599@events.wateralliance.nl
SUMMARY:IE Expo China
DESCRIPTION:Deze website is alleen toegankelijk voor Water Alliance leden.\nAanmelden
URL:https://events.wateralliance.nl/event/ie-expo-china/
LOCATION:China\, China
CATEGORIES:Vakbeurs
END:VEVENT
BEGIN:VEVENT
DTSTART;VALUE=DATE:20260414
DTEND;VALUE=DATE:20260417
DTSTAMP:20260419T203624
CREATED:20250624T090853Z
LAST-MODIFIED:20250703T130033Z
UID:508-1776124800-1776383999@events.wateralliance.nl
SUMMARY:Ecomondo Mexico
DESCRIPTION:Deze website is alleen toegankelijk voor Water Alliance leden.\nAanmelden
URL:https://events.wateralliance.nl/event/ecomondo-mexico/
LOCATION:Mexico\, Mexico
CATEGORIES:Congres,Vakbeurs
END:VEVENT
BEGIN:VEVENT
DTSTART;VALUE=DATE:20260416
DTEND;VALUE=DATE:20260418
DTSTAMP:20260419T203625
CREATED:20250721T081101Z
LAST-MODIFIED:20250721T081648Z
UID:881-1776297600-1776470399@events.wateralliance.nl
SUMMARY:Nationale Klimaat Expo
DESCRIPTION:Deze website is alleen toegankelijk voor Water Alliance leden.\nAanmelden
URL:https://events.wateralliance.nl/event/nationale-klimaat-expo/
LOCATION:Nederland\, Netherlands
CATEGORIES:Congres,Vakbeurs
END:VEVENT
BEGIN:VEVENT
DTSTART;VALUE=DATE:20260416
DTEND;VALUE=DATE:20260419
DTSTAMP:20260419T203625
CREATED:20260127T132751Z
LAST-MODIFIED:20260127T132751Z
UID:1396-1776297600-1776556799@events.wateralliance.nl
SUMMARY:WaterEx
DESCRIPTION:Deze website is alleen toegankelijk voor Water Alliance leden.\nAanmelden
URL:https://events.wateralliance.nl/event/waterex/
LOCATION:Bangladesh\, Bangladesh
CATEGORIES:Vakbeurs
END:VEVENT
BEGIN:VEVENT
DTSTART;VALUE=DATE:20260419
DTEND;VALUE=DATE:20260424
DTSTAMP:20260419T203625
CREATED:20250624T080115Z
LAST-MODIFIED:20250703T125833Z
UID:485-1776556800-1776988799@events.wateralliance.nl
SUMMARY:Oman Water Week
DESCRIPTION:Deze website is alleen toegankelijk voor Water Alliance leden.\nAanmelden
URL:https://events.wateralliance.nl/event/oman-water-week/
LOCATION:Oman\, Oman
CATEGORIES:Congres,Vakbeurs
END:VEVENT
BEGIN:VEVENT
DTSTART;VALUE=DATE:20260421
DTEND;VALUE=DATE:20260423
DTSTAMP:20260419T203625
CREATED:20250624T091959Z
LAST-MODIFIED:20250922T073523Z
UID:511-1776729600-1776902399@events.wateralliance.nl
SUMMARY:Canadian Technology Conference
DESCRIPTION:Deze website is alleen toegankelijk voor Water Alliance leden.\nAanmelden
URL:https://events.wateralliance.nl/event/canadian-technology-conference/
LOCATION:Canada\, Canada
CATEGORIES:Congres,Vakbeurs
END:VEVENT
BEGIN:VEVENT
DTSTART;VALUE=DATE:20260421
DTEND;VALUE=DATE:20260423
DTSTAMP:20260419T203625
CREATED:20250723T115649Z
LAST-MODIFIED:20250725T084645Z
UID:949-1776729600-1776902399@events.wateralliance.nl
SUMMARY:Water in Mining Global Summit
DESCRIPTION:Deze website is alleen toegankelijk voor Water Alliance leden.\nAanmelden
URL:https://events.wateralliance.nl/event/water-in-mining-global-summit/
LOCATION:Canada\, Canada
CATEGORIES:Congres,Vakbeurs
END:VEVENT
BEGIN:VEVENT
DTSTART;VALUE=DATE:20260422
DTEND;VALUE=DATE:20260425
DTSTAMP:20260419T203625
CREATED:20250805T112700Z
LAST-MODIFIED:20250805T115219Z
UID:1094-1776816000-1777075199@events.wateralliance.nl
SUMMARY:IFAT Delhi
DESCRIPTION:Deze website is alleen toegankelijk voor Water Alliance leden.\nAanmelden
URL:https://events.wateralliance.nl/event/ifat-delhi/
LOCATION:India\, India
CATEGORIES:Congres,Vakbeurs
END:VEVENT
BEGIN:VEVENT
DTSTART;VALUE=DATE:20260426
DTEND;VALUE=DATE:20260430
DTSTAMP:20260419T203625
CREATED:20250701T103602Z
LAST-MODIFIED:20250703T143522Z
UID:669-1777161600-1777507199@events.wateralliance.nl
SUMMARY:Water Loss Conference
DESCRIPTION:Deze website is alleen toegankelijk voor Water Alliance leden.\nAanmelden
URL:https://events.wateralliance.nl/event/water-loss-conference/
LOCATION:Brazilië\, Brazil
CATEGORIES:Congres,Vakbeurs
END:VEVENT
BEGIN:VEVENT
DTSTART;VALUE=DATE:20260427
DTEND;VALUE=DATE:20260501
DTSTAMP:20260419T203625
CREATED:20250624T094901Z
LAST-MODIFIED:20250703T125301Z
UID:515-1777248000-1777593599@events.wateralliance.nl
SUMMARY:Texas Water
DESCRIPTION:Deze website is alleen toegankelijk voor Water Alliance leden.\nAanmelden
URL:https://events.wateralliance.nl/event/texas-water/
LOCATION:Verenigde Staten\, United States
CATEGORIES:Congres,Vakbeurs
END:VEVENT
BEGIN:VEVENT
DTSTART;VALUE=DATE:20260428
DTEND;VALUE=DATE:20260501
DTSTAMP:20260419T203625
CREATED:20250624T095841Z
LAST-MODIFIED:20250703T125213Z
UID:518-1777334400-1777593599@events.wateralliance.nl
SUMMARY:Water Quality Association
DESCRIPTION:Deze website is alleen toegankelijk voor Water Alliance leden.\nAanmelden
URL:https://events.wateralliance.nl/event/water-aqu/
LOCATION:Verenigde Staten\, United States
CATEGORIES:Congres,Vakbeurs
END:VEVENT
BEGIN:VEVENT
DTSTART;VALUE=DATE:20260504
DTEND;VALUE=DATE:20260508
DTSTAMP:20260419T203625
CREATED:20250624T124613Z
LAST-MODIFIED:20260109T094616Z
UID:525-1777852800-1778198399@events.wateralliance.nl
SUMMARY:IFAT München
DESCRIPTION:Deze website is alleen toegankelijk voor Water Alliance leden.\nAanmelden
URL:https://events.wateralliance.nl/event/ifat-munchen/
LOCATION:Duitsland\, Germany
CATEGORIES:met Water Alliance,Vakbeurs
END:VEVENT
BEGIN:VEVENT
DTSTART;VALUE=DATE:20260504
DTEND;VALUE=DATE:20260508
DTSTAMP:20260419T203625
CREATED:20250701T124122Z
LAST-MODIFIED:20250703T124016Z
UID:689-1777852800-1778198399@events.wateralliance.nl
SUMMARY:Offshore Technology Conference
DESCRIPTION:Deze website is alleen toegankelijk voor Water Alliance leden.\nAanmelden
URL:https://events.wateralliance.nl/event/offshore-technology-conference/
LOCATION:Verenigde Staten\, United States
CATEGORIES:Congres,Vakbeurs
END:VEVENT
BEGIN:VEVENT
DTSTART;VALUE=DATE:20260505
DTEND;VALUE=DATE:20260509
DTSTAMP:20260419T203625
CREATED:20250701T124550Z
LAST-MODIFIED:20251202T115218Z
UID:694-1777939200-1778284799@events.wateralliance.nl
SUMMARY:Caspian Agro
DESCRIPTION:Deze website is alleen toegankelijk voor Water Alliance leden.\nAanmelden
URL:https://events.wateralliance.nl/event/caspian-agro/
LOCATION:Azerbaijan
CATEGORIES:Vakbeurs
END:VEVENT
BEGIN:VEVENT
DTSTART;VALUE=DATE:20260511
DTEND;VALUE=DATE:20260513
DTSTAMP:20260419T203625
CREATED:20251121T104316Z
LAST-MODIFIED:20251121T104431Z
UID:1265-1778457600-1778630399@events.wateralliance.nl
SUMMARY:European Smart Water Utilities
DESCRIPTION:Deze website is alleen toegankelijk voor Water Alliance leden.\nAanmelden
URL:https://events.wateralliance.nl/event/european-smart-water-utilities/
LOCATION:Nederland\, Netherlands
CATEGORIES:Congres,Vakbeurs
END:VEVENT
BEGIN:VEVENT
DTSTART;VALUE=DATE:20260512
DTEND;VALUE=DATE:20260515
DTSTAMP:20260419T203625
CREATED:20250701T123547Z
LAST-MODIFIED:20251209T140934Z
UID:682-1778544000-1778803199@events.wateralliance.nl
SUMMARY:Fluid Pump Asia
DESCRIPTION:Deze website is alleen toegankelijk voor Water Alliance leden.\nAanmelden
URL:https://events.wateralliance.nl/event/fluid-pump-asia-2025/
LOCATION:Pakistan
CATEGORIES:Vakbeurs
END:VEVENT
BEGIN:VEVENT
DTSTART;VALUE=DATE:20260514
DTEND;VALUE=DATE:20260515
DTSTAMP:20260419T203625
CREATED:20251120T084740Z
LAST-MODIFIED:20251120T084833Z
UID:1139-1778716800-1778803199@events.wateralliance.nl
SUMMARY:Water Equipment Show
DESCRIPTION:Deze website is alleen toegankelijk voor Water Alliance leden.\nAanmelden
URL:https://events.wateralliance.nl/event/water-equipment-show/
LOCATION:Verenigd Koninkrijk\, United Kingdom
CATEGORIES:Congres,Vakbeurs
END:VEVENT
BEGIN:VEVENT
DTSTART;VALUE=DATE:20260518
DTEND;VALUE=DATE:20260521
DTSTAMP:20260419T203625
CREATED:20250624T124910Z
LAST-MODIFIED:20250703T122400Z
UID:528-1779062400-1779321599@events.wateralliance.nl
SUMMARY:Oman Sustainability Week
DESCRIPTION:Deze website is alleen toegankelijk voor Water Alliance leden.\nAanmelden
URL:https://events.wateralliance.nl/event/oman-sustainability-week/
LOCATION:Oman\, Oman
CATEGORIES:Congres,Vakbeurs
END:VEVENT
BEGIN:VEVENT
DTSTART;VALUE=DATE:20260518
DTEND;VALUE=DATE:20260521
DTSTAMP:20260419T203625
CREATED:20250714T114833Z
LAST-MODIFIED:20250716T074919Z
UID:862-1779062400-1779321599@events.wateralliance.nl
SUMMARY:Global Water Summit
DESCRIPTION:Deze website is alleen toegankelijk voor Water Alliance leden.\nAanmelden
URL:https://events.wateralliance.nl/event/global-water-summit/
LOCATION:Spanje\, Spain
CATEGORIES:Congres
END:VEVENT
BEGIN:VEVENT
DTSTART;VALUE=DATE:20260519
DTEND;VALUE=DATE:20260521
DTSTAMP:20260419T203625
CREATED:20250701T093047Z
LAST-MODIFIED:20250703T124917Z
UID:663-1779148800-1779321599@events.wateralliance.nl
SUMMARY:Utility Week Live
DESCRIPTION:Deze website is alleen toegankelijk voor Water Alliance leden.\nAanmelden
URL:https://events.wateralliance.nl/event/utility-week-live/
LOCATION:Verenigd Koninkrijk\, United Kingdom
CATEGORIES:Vakbeurs
END:VEVENT
BEGIN:VEVENT
DTSTART;VALUE=DATE:20260519
DTEND;VALUE=DATE:20260522
DTSTAMP:20260419T203625
CREATED:20250624T125139Z
LAST-MODIFIED:20250703T122301Z
UID:531-1779148800-1779407999@events.wateralliance.nl
SUMMARY:World Hydrogen Summit
DESCRIPTION:Deze website is alleen toegankelijk voor Water Alliance leden.\nAanmelden
URL:https://events.wateralliance.nl/event/world-hydrogen-summit/
LOCATION:Nederland\, Netherlands
CATEGORIES:Congres,Vakbeurs
END:VEVENT
BEGIN:VEVENT
DTSTART;VALUE=DATE:20260520
DTEND;VALUE=DATE:20260522
DTSTAMP:20260419T203625
CREATED:20250721T084713Z
LAST-MODIFIED:20250724T111103Z
UID:893-1779235200-1779407999@events.wateralliance.nl
SUMMARY:Food Tech Event
DESCRIPTION:Deze website is alleen toegankelijk voor Water Alliance leden.\nAanmelden
URL:https://events.wateralliance.nl/event/food-tech-event/
LOCATION:Nederland\, Netherlands
CATEGORIES:Vakbeurs
END:VEVENT
END:VCALENDAR