BEGIN:VCALENDAR
VERSION:2.0
PRODID:-//Water Alliance Events - ECPv6.14.2//NONSGML v1.0//EN
CALSCALE:GREGORIAN
METHOD:PUBLISH
X-WR-CALNAME:Water Alliance Events
X-ORIGINAL-URL:https://events.wateralliance.nl
X-WR-CALDESC:Evenementen voor Water Alliance Events
REFRESH-INTERVAL;VALUE=DURATION:PT1H
X-Robots-Tag:noindex
X-PUBLISHED-TTL:PT1H
BEGIN:VTIMEZONE
TZID:UTC
BEGIN:STANDARD
TZOFFSETFROM:+0000
TZOFFSETTO:+0000
TZNAME:UTC
DTSTART:20250101T000000
END:STANDARD
END:VTIMEZONE
BEGIN:VTIMEZONE
TZID:UTC
BEGIN:STANDARD
TZOFFSETFROM:+0000
TZOFFSETTO:+0000
TZNAME:UTC
DTSTART:20250101T000000
END:STANDARD
END:VTIMEZONE
BEGIN:VEVENT
DTSTART;VALUE=DATE:20250929
DTEND;VALUE=DATE:20251002
DTSTAMP:20260420T045816
CREATED:20250616T130922Z
LAST-MODIFIED:20250722T083846Z
UID:149-1759104000-1759363199@events.wateralliance.nl
SUMMARY:WEFTEC Chicago 2025
DESCRIPTION:Van 29 september tot en met 1 oktober 2025 is Water Alliance aanwezig op de WEFTEC in Chicago\, de toonaangevende beurs voor watertechnologie in Noord-Amerika. In samenwerking met een krachtige delegatie van Nederlandse bedrijven organiseren we het Netherlands Pavilion: een gezamenlijke presentatie van Nederlandse waterexpertise\, innovatie en samenwerking. \nWEFTEC: toegang tot de Amerikaanse watermarkt\nWEFTEC (Water Environment Federation’s Technical Exhibition & Conference) is het grootste jaarlijkse watertechnologie-evenement in Noord-Amerika. Honderden exposanten\, duizenden professionals en talloze netwerkmogelijkheden maken dit evenement tot hét platform om in contact te komen met besluitvormers\, inkopers en partners uit de Amerikaanse watersector.   Tijdens WEFTEC 2025 presenteert Nederland zich gezamenlijk onder de vlag van het Netherlands Pavilion\, een sterk collectief waar kennisdeling\, zichtbaarheid en matchmaking centraal staan. Het Nederlandse Paviljoen wordt gehost door het Netherlands Water Partnership (NWP) en Water Alliance. Het wordt gefinancierd door het WTEX10-programma\, een initiatief van de Nederlandse overheid\, het Ministerie van Economische Zaken en Klimaat\, het Ministerie van Infrastructuur en Waterstaat\, en de Topsector Water & Maritiem in samenwerking met Water Alliance en NWP. \nWat kun je verwachten van het Netherlands Pavilion?\nHet paviljoen biedt deelnemers een representatieve en strategisch gelegen plek op de beursvloer\, ondersteund door een breed scala aan services: \n\nCollectieve zichtbaarheid onder de krachtige internationale branding van Nederland;\nActieve matchmaking en netwerkkansen\, zowel op als naast de beursvloer;\nVolledige toegang tot conferenties en technische sessies (inbegrepen in deelname);\nOndersteuning door het team van Water Alliance ter plaatse;\nPre-event promotie via (inter)nationale communicatiekanalen;\nGebruik van collectieve voorzieningen zoals hospitalityruimte\, folderrek en meubels.\n\nDeelnemende bedrijven\nDe volgende bedrijven nemen deel aan het Netherlands Pavilion op WEFTEC 2025: \n\nAQANA\nAzzuro\nBerghof Membrane Technology\nFerr-Tech\nMembrane Systems Europe\nNedap\nNX Filtration\nPaques Environmental Technologies\, Inc\nRAI Amsterdam | Aquatech Global\nSoliSENZ\n\nAfgelopen editie in New Orleans hadden we een prachtig gelegen NL-paviljoen met een rijk programma – hét voorbeeld van hoe we de sector verbinden en zakelijke kansen creëren. \nMeer informatie?\nWil je meer weten over het Netherlands Pavilion op WEFTEC 2025\, in contact komen met een van de deelnemende bedrijven\, of heb je alsnog interesse om zelf deel te nemen? Neem dan gerust contact op met Yvonne van den Berg of Myrthe Damstra van Water Alliance.
URL:https://events.wateralliance.nl/event/weftec-chicago-2025/
LOCATION:Verenigde Staten\, United States
CATEGORIES:met Water Alliance,Vakbeurs
ATTACH;FMTTYPE=image/png:https://events.wateralliance.nl/wp-content/uploads/2025/06/weftec-met-wateralliance.png
END:VEVENT
BEGIN:VEVENT
DTSTART;VALUE=DATE:20250924
DTEND;VALUE=DATE:20250926
DTSTAMP:20260420T045816
CREATED:20250801T075403Z
LAST-MODIFIED:20250801T075750Z
UID:1014-1758672000-1758844799@events.wateralliance.nl
SUMMARY:Sensing in Water
DESCRIPTION:Sensing in Water 2025 (SiW25) vindt plaats op 24 en 25 september 2025 in het Holywell Park Conference Centre in Loughborough\, VK. Het evenement wordt georganiseerd door SWIG (Sensors for Water Interest Group) en richt zich op de nieuwste innovaties in sensoren\, data en AI voor water- en afvalwatersystemen.Het programma bevat presentaties van nutsbedrijven\, technologieaanbieders en onderzoekers over thema’s als AI voor netwerkbeheer\, milieumonitoring\, regelgevingsstrategie en realtime waterkwaliteit. Er zijn workshops\, een expositie\, en een Gala Dinner op 24 september met keynote-sprekers van onder andere Anglian Water en Isle Utilities. \nMeer informatie: https://www.swig.org.uk/sensinginwater25
URL:https://events.wateralliance.nl/event/sensing-in-water/
LOCATION:Verenigd Koninkrijk\, United Kingdom
CATEGORIES:Congres
ATTACH;FMTTYPE=image/png:https://events.wateralliance.nl/wp-content/uploads/2025/07/Format-Events-platform-93.png
END:VEVENT
BEGIN:VEVENT
DTSTART;VALUE=DATE:20250924
DTEND;VALUE=DATE:20250926
DTSTAMP:20260420T045816
CREATED:20250723T121538Z
LAST-MODIFIED:20250804T115337Z
UID:953-1758672000-1758844799@events.wateralliance.nl
SUMMARY:Water Horizons
DESCRIPTION:De Water Horizons Conference 2026 is een toonaangevend wereldwijde conferentie en netwerkevent gericht op baanbrekende innovaties in waterbeheer. Thema’s omvatten onder meer opkomende verontreinigende stoffen en het gebruik van AI/IoT voor klimaatbestendige waterinfrastructuur. \nMeer informatie: http://waterhorizonsevents.org/home
URL:https://events.wateralliance.nl/event/water-horizons-2025/
LOCATION:Verenigd Koninkrijk\, United Kingdom
CATEGORIES:Congres,Netwerkevenement
ATTACH;FMTTYPE=image/png:https://events.wateralliance.nl/wp-content/uploads/2025/07/Format-Events-platform-86.png
END:VEVENT
BEGIN:VEVENT
DTSTART;VALUE=DATE:20250923
DTEND;VALUE=DATE:20250926
DTSTAMP:20260420T045816
CREATED:20250911T141708Z
LAST-MODIFIED:20250911T141750Z
UID:1145-1758585600-1758844799@events.wateralliance.nl
SUMMARY:Spain Smart Water Summit
DESCRIPTION:De Spain Smart Water Summit 2025 wordt gehouden van 23 tot en met 25 september 2025 in het Meliá Avenida América\, Madrid. Het evenement\, georganiseerd door iAgua\, legt de nadruk op digitalisering en slimme technologieën in het stedelijk watercyclusbeheer\, zoals sensoren\, IoT\, kunstmatige intelligentie\, connected platforms en voorspellende algoritmes. Utilities\, technologische leveranciers en beleidsmakers presenteren projecten\, best practices en strategieën om waterinfrastructuren slimmer\, efficiënter en veerkrachtiger te maken.
URL:https://events.wateralliance.nl/event/spain-smart-water-summit/
LOCATION:Spanje\, Spain
ATTACH;FMTTYPE=image/png:https://events.wateralliance.nl/wp-content/uploads/2025/09/Format-Events-platform-2025-09-11T161530.675.png
END:VEVENT
BEGIN:VEVENT
DTSTART;VALUE=DATE:20250917
DTEND;VALUE=DATE:20250919
DTSTAMP:20260420T045817
CREATED:20250722T142805Z
LAST-MODIFIED:20250722T143904Z
UID:935-1758067200-1758239999@events.wateralliance.nl
SUMMARY:Water\, Wastewater and Environmental Management (WWEM) 2025
DESCRIPTION:WWEM is hét twee‑daagse vakbeurs‑ en congresplatform gericht op waterbeheer\, afvalwater en nood‑ & milieumanagement. Samen met sessies over waterkwaliteitsmonitoring\, afvalwaterzuivering\, flood‑preventie\, SuDS (sustainable drainage)\, wet‑&‑regelgeving\, noodrespons en energietransitie\, brengt het event ruim 4.000 professionals en 150 exposanten uit uiteenlopende sectoren samen. \nMeer informatie vind je via: https://www.ess-expo.co.uk/
URL:https://events.wateralliance.nl/event/water-wastewater-and-environmental-management-wwem/
LOCATION:Verenigd Koninkrijk\, United Kingdom
CATEGORIES:Congres,Vakbeurs
ATTACH;FMTTYPE=image/jpeg:https://events.wateralliance.nl/wp-content/uploads/2025/07/WWEM_logo_4473d19bc4.jpg
END:VEVENT
BEGIN:VEVENT
DTSTART;VALUE=DATE:20250902
DTEND;VALUE=DATE:20250905
DTSTAMP:20260420T045817
CREATED:20250617T115634Z
LAST-MODIFIED:20250703T144151Z
UID:266-1756771200-1757030399@events.wateralliance.nl
SUMMARY:Global Water Expo
DESCRIPTION:Global Water Expo in Saudi-Arabië is een belangrijke handelsbeurs die de nieuwste watertechnologieën en oplossingen presenteert\, gericht op de wateruitdagingen in het Midden-Oosten en Azië. \nMeer info via: https://www.globalwaterexhibition.com/
URL:https://events.wateralliance.nl/event/global-water-expo/
LOCATION:Saudi-Arabië\, Saudi Arabia
CATEGORIES:Vakbeurs
ATTACH;FMTTYPE=image/png:https://events.wateralliance.nl/wp-content/uploads/2025/06/Format-Events-platform-17.png
END:VEVENT
BEGIN:VEVENT
DTSTART;VALUE=DATE:20250902
DTEND;VALUE=DATE:20250905
DTSTAMP:20260420T045817
CREATED:20250617T114246Z
LAST-MODIFIED:20250811T102719Z
UID:262-1756771200-1757030399@events.wateralliance.nl
SUMMARY:Aquatech Mexico
DESCRIPTION:Water Challenges and Opportunities in Mexico\nMexico faces major water-related challenges. Ageing infrastructure\, leakage and pollution risks put increasing pressure on water availability. Only half of the country’s wastewater is currently treated and reused. At the same time\, this creates opportunities: the Mexican government is investing heavily and introducing new legislation to address these issues. \nAbout Aquatech Mexico\nAquatech Mexico is the largest trade show in Mexico and Latin America dedicated to process\, drinking and wastewater technology. With over 150 exhibitors and a comprehensive content programme\, the event includes presentations\, workshops\, and conferences by leading industry players. More than 10\,000 visitors from 29 countries attend each year. \nThe Netherlands Pavilion\nWater Alliance will be part of the Netherlands Pavilion\, together with other Dutch water technology companies. The pavilion is organised in collaboration with RVO\, RAI Amsterdam and the Netherlands Embassy in Mexico. It offers a strong collective presence and valuable access to the Latin American water market. \nParticipation includes: \n\nPremium booth construction\nParticipation in the daily Dutch AquaStage programme (RVO)\nMatchmaking opportunities\nAccess to the networking lounge\nEvening reception on the exhibition floor\nPromotion through RVO and the Netherlands Embassy\n\nParticipation rates \n\n9 m²: $5\,175\n12 m²: $6\,900\n(excluding 16% administration fee)\n\nVisitor Profile\nAquatech Mexico attracts key decision-makers\, including executives\, technical managers and buyers. Main areas of interest include water and wastewater treatment\, engineering\, process control\, automation and stormwater management. \nInterested in joining?\nWould you like to be part of this important event and join the Netherlands Pavilion? Get in touch with: \nWalter van der Schoot\n📧 aquatech@rai.nl | w.vd.schoot@rai.nl\n📞 +31 (0)6 188 91 357
URL:https://events.wateralliance.nl/event/aquatech-mexico-2025/
LOCATION:Mexico\, Mexico
CATEGORIES:Vakbeurs
ATTACH;FMTTYPE=image/png:https://events.wateralliance.nl/wp-content/uploads/2025/06/Format-Events-platform-9.png
END:VEVENT
BEGIN:VEVENT
DTSTART;TZID=UTC:20250829T090000
DTEND;TZID=UTC:20250829T103000
DTSTAMP:20260420T045817
CREATED:20250722T105008Z
LAST-MODIFIED:20250722T105929Z
UID:929-1756458000-1756463400@events.wateralliance.nl
SUMMARY:Webinar: Biopolymeren uit afvalwater
DESCRIPTION:Afvalwater is niet langer alleen iets dat behandeld en geloosd moet worden – het wordt een waardevolle bron van grondstoffen. Terwijl industrieën op zoek zijn naar duurzame alternatieven voor plastic\, brandvertragers en op fossielen gebaseerde additieven\, komen biopolymeren uit afvalwater naar voren als een krachtige oplossing. \nDeze nieuwe materialen kunnen helpen de afhankelijkheid van nieuwe kunststoffen te verminderen\, de milieu-impact te verlagen en passen naadloos in bestaande productieprocessen – van meubels en bouwmaterialen tot luchtvaart en elektronica. \nWat is de volgende stap? In dit webinar duiken we in de groeiende mogelijkheden van biopolymeren uit afvalwater. Hoe worden ze gemaakt\, wat kunnen ze vervangen\, en hoe dragen ze bij aan een groenere\, circulaire economie? \nMeer informatie vind je hier: https://wateralliance.nl/event/webinar-biopolymers-from-wastewater/
URL:https://events.wateralliance.nl/event/webinar-biopolymeren-uit-afvalwater/
LOCATION:Online
CATEGORIES:met Water Alliance,Webinar
ATTACH;FMTTYPE=image/png:https://events.wateralliance.nl/wp-content/uploads/2025/07/Webinar-biopolymers-from-wastewater.png
ORGANIZER;CN="Roxane":MAILTO:r.yazdanpanah@wateralliance.nl
END:VEVENT
BEGIN:VEVENT
DTSTART;VALUE=DATE:20250824
DTEND;VALUE=DATE:20250829
DTSTAMP:20260420T045817
CREATED:20250617T112847Z
LAST-MODIFIED:20250703T144302Z
UID:244-1755993600-1756425599@events.wateralliance.nl
SUMMARY:World Water Week
DESCRIPTION:World Water Week is een internationaal forum waar experts\, beleidsmakers en organisaties samenkomen om wereldwijde waterkwesties te bespreken en te werken aan innovatieve wateroplossingen. \nMeer info via: https://worldwaterweek.org/
URL:https://events.wateralliance.nl/event/world-water-week/
LOCATION:Zweden\, Sweden
CATEGORIES:Congres
ATTACH;FMTTYPE=image/png:https://events.wateralliance.nl/wp-content/uploads/2025/06/Format-Events-platform-1.png
END:VEVENT
BEGIN:VEVENT
DTSTART;VALUE=DATE:20250813
DTEND;VALUE=DATE:20250814
DTSTAMP:20260420T045817
CREATED:20250701T125412Z
LAST-MODIFIED:20250701T125412Z
UID:700-1755043200-1755129599@events.wateralliance.nl
SUMMARY:Waterwise Irrigation Expo
DESCRIPTION:Deze vakbeurs richt zich op stedelijke irrigatie en waterbesparing in landschapsbeheer. Het evenement brengt professionals samen rond thema’s als innovatieve irrigatietechnologie\, duurzaam waterbeheer en toekomstbestendige oplossingen. Voor watertechnologiebedrijven biedt dit kansen om in contact te komen met eindgebruikers\, zoals gemeenten\, installateurs en landschapsarchitecten\, en om slimme\, waterbesparende oplossingen te presenteren voor stedelijke omgevingen. \nMeer informatie via: https://irrigationaustralia.com.au/ia-events/2025-waterwise-irrigation-expo
URL:https://events.wateralliance.nl/event/waterwise-irrigation-expo/
LOCATION:Australië\, Australia
CATEGORIES:Vakbeurs
ATTACH;FMTTYPE=image/png:https://events.wateralliance.nl/wp-content/uploads/2025/07/irrigation-australia.png
END:VEVENT
BEGIN:VEVENT
DTSTART;VALUE=DATE:20250708
DTEND;VALUE=DATE:20250712
DTSTAMP:20260420T045817
CREATED:20250617T112718Z
LAST-MODIFIED:20250703T134919Z
UID:241-1751932800-1752278399@events.wateralliance.nl
SUMMARY:One Water Summit
DESCRIPTION:De One Water Summit is een belangrijk congres gericht op integrale waterbeheerstrategieën. Beleidsmakers\, wetenschappers en bedrijfsleven delen kennis om wateruitdagingen in Noord-Amerika duurzaam aan te pakken. \nMeer info via: https://uswateralliance.org/programs/one-water-summit/
URL:https://events.wateralliance.nl/event/one-water-summit/
LOCATION:Verenigde Staten\, United States
CATEGORIES:Congres
ATTACH;FMTTYPE=image/png:https://events.wateralliance.nl/wp-content/uploads/2025/06/Format-Events-platform-3.png
END:VEVENT
BEGIN:VEVENT
DTSTART;VALUE=DATE:20250708
DTEND;VALUE=DATE:20250711
DTSTAMP:20260420T045817
CREATED:20250617T112418Z
LAST-MODIFIED:20250618T080653Z
UID:211-1751932800-1752191999@events.wateralliance.nl
SUMMARY:IFAT Africa
DESCRIPTION:IFAT Africa is de toonaangevende vakbeurs voor water-\, afval- en milieutechnologie in Afrika. Het evenement brengt regionale en internationale experts samen om innovatieve oplossingen en duurzame ontwikkelingen te presenteren. \nMeer info via: https://ifat-africa.com/en/
URL:https://events.wateralliance.nl/event/ifat-africa/
LOCATION:Zuid-Afrika\, South Africa
CATEGORIES:Congres
ATTACH;FMTTYPE=image/png:https://events.wateralliance.nl/wp-content/uploads/2025/06/Format-Events-platform.png
END:VEVENT
BEGIN:VEVENT
DTSTART;TZID=UTC:20250627T090000
DTEND;TZID=UTC:20250627T103000
DTSTAMP:20260420T045817
CREATED:20250616T130655Z
LAST-MODIFIED:20250626T061338Z
UID:144-1751014800-1751020200@events.wateralliance.nl
SUMMARY:Webinar: The Link Between Wastewater and Energy
DESCRIPTION:Van afvalwater naar energie: innovaties aan het werk\nDe wereld van afvalwaterbehandeling is volop in beweging. Wat ooit alleen draaide om waterzuivering\, wordt nu een bron van waardevolle grondstoffen en energie. Steeds meer waterzuiveringsinstallaties werken energie-neutraal – en sommigen gaan zelfs nog een stap verder.\nMaar wat is de volgende stap? \nIn dit webinar verkennen we de nieuwste ontwikkelingen op het snijvlak van afvalwater en energie. Hoe kunnen we afvalwater gebruiken om energie op te wekken – en welke technologieën maken dit al mogelijk? \nWat kun je verwachten?\n\nKeynote door Jules van Lier (TU Delft):\nEen overzicht van de stand van zaken in energieterugwinning uit (afval)water\, met een focus op anaerobe behandelingstechnieken.\nKorte pitches van twee innovatieve bedrijven:\n\nTorwash – Een thermisch proces dat slib omzet in biogas en bio-olie.\nAquacycl – Een modulaire bio-elektrochemische cel die afvalwater zuivert én elektriciteit genereert.\nInteractieve sessie met technologieontwikkelaars en eindgebruikers:\nDeze sessie is bewust opgezet als tweerichtingsverkeer. Jij als eindgebruiker weet wat er werkt in de praktijk – en wat niet. Deel je ervaringen\, stel vragen en denk mee. Zo help je mee om oplossingen beter aan te laten sluiten op de dagelijkse realiteit.\n\n\n\nVoor wie?\nDeze sessie is onderdeel van ons end-user platform\, dat technologieontwikkelaars verbindt met professionals uit het veld. Ben jij actief in afvalwaterbeheer\, energiemanagement of circulaire oplossingen? Dan is dit webinar voor jou. \nDit webinar is exclusief bedoeld voor eindgebruikers.\nTijdens deze sessie krijg je inzicht in oplossingen die je helpen om je watertechnologie te optimaliseren — en om bij te blijven in een snel veranderend innovatielandschap. \n(Let op: dit webinar is niet toegankelijk voor marktconcurrenten.)
URL:https://events.wateralliance.nl/event/webinar-the-link-between-wastewater-and-energy/
LOCATION:Online
CATEGORIES:met Water Alliance,Webinar
ATTACH;FMTTYPE=image/png:https://events.wateralliance.nl/wp-content/uploads/2025/06/End-user-webinar-wastewater-and-energy-1.png
ORGANIZER;CN="Roxane":MAILTO:r.yazdanpanah@wateralliance.nl
END:VEVENT
END:VCALENDAR