BEGIN:VCALENDAR
VERSION:2.0
PRODID:-//Water Alliance Events - ECPv6.14.2//NONSGML v1.0//EN
CALSCALE:GREGORIAN
METHOD:PUBLISH
X-ORIGINAL-URL:https://events.wateralliance.nl
X-WR-CALDESC:Evenementen voor Water Alliance Events
REFRESH-INTERVAL;VALUE=DURATION:PT1H
X-Robots-Tag:noindex
X-PUBLISHED-TTL:PT1H
BEGIN:VTIMEZONE
TZID:UTC
BEGIN:STANDARD
TZOFFSETFROM:+0000
TZOFFSETTO:+0000
TZNAME:UTC
DTSTART:20260101T000000
END:STANDARD
END:VTIMEZONE
BEGIN:VTIMEZONE
TZID:UTC
BEGIN:STANDARD
TZOFFSETFROM:+0000
TZOFFSETTO:+0000
TZNAME:UTC
DTSTART:20260101T000000
END:STANDARD
END:VTIMEZONE
BEGIN:VEVENT
DTSTART;VALUE=DATE:20260630
DTEND;VALUE=DATE:20260703
DTSTAMP:20260420T012947
CREATED:20250718T092936Z
LAST-MODIFIED:20250801T084621Z
UID:898-1782777600-1783036799@events.wateralliance.nl
SUMMARY:FILTECH
DESCRIPTION:Deze website is alleen toegankelijk voor Water Alliance leden.\nAanmelden
URL:https://events.wateralliance.nl/event/filtech/
LOCATION:Duitsland\, Germany
CATEGORIES:Congres,Vakbeurs
END:VEVENT
BEGIN:VEVENT
DTSTART;VALUE=DATE:20260701
DTEND;VALUE=DATE:20260704
DTSTAMP:20260420T012947
CREATED:20250729T102954Z
LAST-MODIFIED:20250729T103252Z
UID:1020-1782864000-1783123199@events.wateralliance.nl
SUMMARY:Thai Water
DESCRIPTION:Deze website is alleen toegankelijk voor Water Alliance leden.\nAanmelden
URL:https://events.wateralliance.nl/event/thai-water/
LOCATION:Thailand\, Thailand
CATEGORIES:Congres,Vakbeurs
END:VEVENT
BEGIN:VEVENT
DTSTART;VALUE=DATE:20260806
DTEND;VALUE=DATE:20260809
DTSTAMP:20260420T012947
CREATED:20260209T114853Z
LAST-MODIFIED:20260209T114924Z
UID:1414-1785974400-1786233599@events.wateralliance.nl
SUMMARY:EAW Global Aqua Expo
DESCRIPTION:Deze website is alleen toegankelijk voor Water Alliance leden.\nAanmelden
URL:https://events.wateralliance.nl/event/eaw-global-aqua-expo/
LOCATION:India\, India
CATEGORIES:Congres,Vakbeurs
END:VEVENT
BEGIN:VEVENT
DTSTART;VALUE=DATE:20260823
DTEND;VALUE=DATE:20260828
DTSTAMP:20260420T012947
CREATED:20260416T084351Z
LAST-MODIFIED:20260416T084512Z
UID:1431-1787443200-1787875199@events.wateralliance.nl
SUMMARY:World Water Week
DESCRIPTION:Deze website is alleen toegankelijk voor Water Alliance leden.\nAanmelden
URL:https://events.wateralliance.nl/event/1431/
LOCATION:Zweden\, Sweden
CATEGORIES:Congres
END:VEVENT
BEGIN:VEVENT
DTSTART;VALUE=DATE:20260901
DTEND;VALUE=DATE:20260904
DTSTAMP:20260420T012947
CREATED:20251021T121645Z
LAST-MODIFIED:20251021T121816Z
UID:1226-1788220800-1788479999@events.wateralliance.nl
SUMMARY:Aquatech Mexico
DESCRIPTION:Deze website is alleen toegankelijk voor Water Alliance leden.\nAanmelden
URL:https://events.wateralliance.nl/event/aquatech-mexico/
LOCATION:Mexico\, Mexico
CATEGORIES:Vakbeurs
END:VEVENT
BEGIN:VEVENT
DTSTART;VALUE=DATE:20260908
DTEND;VALUE=DATE:20260911
DTSTAMP:20260420T012947
CREATED:20250721T083202Z
LAST-MODIFIED:20251209T141719Z
UID:879-1788825600-1789084799@events.wateralliance.nl
SUMMARY:Installatie Vakdagen
DESCRIPTION:Deze website is alleen toegankelijk voor Water Alliance leden.\nAanmelden
URL:https://events.wateralliance.nl/event/installatie-vakdagen/
LOCATION:Nederland\, Netherlands
CATEGORIES:Vakbeurs
END:VEVENT
BEGIN:VEVENT
DTSTART;VALUE=DATE:20260922
DTEND;VALUE=DATE:20260926
DTSTAMP:20260420T012947
CREATED:20250805T100737Z
LAST-MODIFIED:20250805T100810Z
UID:877-1790035200-1790380799@events.wateralliance.nl
SUMMARY:WoTS
DESCRIPTION:Deze website is alleen toegankelijk voor Water Alliance leden.\nAanmelden
URL:https://events.wateralliance.nl/event/wots/
LOCATION:Nederland\, Netherlands
CATEGORIES:Vakbeurs
END:VEVENT
BEGIN:VEVENT
DTSTART;VALUE=DATE:20260923
DTEND;VALUE=DATE:20260925
DTSTAMP:20260420T012947
CREATED:20260416T133205Z
LAST-MODIFIED:20260416T133351Z
UID:1436-1790121600-1790294399@events.wateralliance.nl
SUMMARY:CleanTech Xpo
DESCRIPTION:Deze website is alleen toegankelijk voor Water Alliance leden.\nAanmelden
URL:https://events.wateralliance.nl/event/cleantech-xpo-2/
LOCATION:België\, Belgium
CATEGORIES:Congres,Vakbeurs
END:VEVENT
BEGIN:VEVENT
DTSTART;VALUE=DATE:20260926
DTEND;VALUE=DATE:20261001
DTSTAMP:20260420T012947
CREATED:20250624T134003Z
LAST-MODIFIED:20260109T100547Z
UID:569-1790380800-1790812799@events.wateralliance.nl
SUMMARY:WEFTEC New Orleans
DESCRIPTION:Deze website is alleen toegankelijk voor Water Alliance leden.\nAanmelden
URL:https://events.wateralliance.nl/event/weftec/
LOCATION:Verenigde Staten\, United States
CATEGORIES:Congres,met Water Alliance,Vakbeurs
END:VEVENT
BEGIN:VEVENT
DTSTART;VALUE=DATE:20261004
DTEND;VALUE=DATE:20261009
DTSTAMP:20260420T012947
CREATED:20250722T142022Z
LAST-MODIFIED:20250728T075009Z
UID:933-1791072000-1791503999@events.wateralliance.nl
SUMMARY:IWA World Water Congress & Exhibition
DESCRIPTION:Deze website is alleen toegankelijk voor Water Alliance leden.\nAanmelden
URL:https://events.wateralliance.nl/event/iwa-world-water-congress-exhibition-2026/
LOCATION:Verenigd Koninkrijk\, United Kingdom
CATEGORIES:Congres,Vakbeurs
END:VEVENT
BEGIN:VEVENT
DTSTART;VALUE=DATE:20261019
DTEND;VALUE=DATE:20261023
DTSTAMP:20260420T012947
CREATED:20260120T133128Z
LAST-MODIFIED:20260120T133759Z
UID:1377-1792368000-1792713599@events.wateralliance.nl
SUMMARY:Saudi Agriculture
DESCRIPTION:Deze website is alleen toegankelijk voor Water Alliance leden.\nAanmelden
URL:https://events.wateralliance.nl/event/saudi-agriculture-2/
LOCATION:Saudi-Arabië\, Saudi Arabia
CATEGORIES:Vakbeurs
END:VEVENT
BEGIN:VEVENT
DTSTART;VALUE=DATE:20261020
DTEND;VALUE=DATE:20261023
DTSTAMP:20260420T012947
CREATED:20250701T122449Z
LAST-MODIFIED:20251209T142500Z
UID:676-1792454400-1792713599@events.wateralliance.nl
SUMMARY:WETEX
DESCRIPTION:Deze website is alleen toegankelijk voor Water Alliance leden.\nAanmelden
URL:https://events.wateralliance.nl/event/wetex/
LOCATION:Verenigde Arabische Emiraten\, United Arab Emirates
CATEGORIES:Vakbeurs
END:VEVENT
BEGIN:VEVENT
DTSTART;VALUE=DATE:20261020
DTEND;VALUE=DATE:20261023
DTSTAMP:20260420T012947
CREATED:20250617T123110Z
LAST-MODIFIED:20251209T144310Z
UID:300-1792454400-1792713599@events.wateralliance.nl
SUMMARY:FENASAN
DESCRIPTION:Deze website is alleen toegankelijk voor Water Alliance leden.\nAanmelden
URL:https://events.wateralliance.nl/event/fenasan/
LOCATION:Brazilië\, Brazil
CATEGORIES:Congres,Vakbeurs
END:VEVENT
BEGIN:VEVENT
DTSTART;TZID=UTC:20261026T080000
DTEND;TZID=UTC:20261028T170000
DTSTAMP:20260420T012947
CREATED:20250624T135833Z
LAST-MODIFIED:20250915T132740Z
UID:574-1793001600-1793206800@events.wateralliance.nl
SUMMARY:European Water Technology Week
DESCRIPTION:Deze website is alleen toegankelijk voor Water Alliance leden.\nAanmelden
URL:https://events.wateralliance.nl/event/european-water-technology-week/
LOCATION:Nederland\, Netherlands
CATEGORIES:Congres
END:VEVENT
BEGIN:VEVENT
DTSTART;VALUE=DATE:20261027
DTEND;VALUE=DATE:20261030
DTSTAMP:20260420T012947
CREATED:20260204T153154Z
LAST-MODIFIED:20260204T153421Z
UID:1407-1793059200-1793318399@events.wateralliance.nl
SUMMARY:Water Congress
DESCRIPTION:Deze website is alleen toegankelijk voor Water Alliance leden.\nAanmelden
URL:https://events.wateralliance.nl/event/water-congress/
LOCATION:Chili\, Chile
CATEGORIES:Congres
END:VEVENT
BEGIN:VEVENT
DTSTART;VALUE=DATE:20261028
DTEND;VALUE=DATE:20261031
DTSTAMP:20260420T012947
CREATED:20251126T081946Z
LAST-MODIFIED:20251126T082015Z
UID:1284-1793145600-1793404799@events.wateralliance.nl
SUMMARY:Aquatech China
DESCRIPTION:Deze website is alleen toegankelijk voor Water Alliance leden.\nAanmelden
URL:https://events.wateralliance.nl/event/aquatech-china-2/
LOCATION:China\, China
CATEGORIES:Vakbeurs
END:VEVENT
BEGIN:VEVENT
DTSTART;VALUE=DATE:20261103
DTEND;VALUE=DATE:20261106
DTSTAMP:20260420T012947
CREATED:20260120T134530Z
LAST-MODIFIED:20260120T135517Z
UID:1160-1793664000-1793923199@events.wateralliance.nl
SUMMARY:Smart City Barcelona
DESCRIPTION:Deze website is alleen toegankelijk voor Water Alliance leden.\nAanmelden
URL:https://events.wateralliance.nl/event/smart-city-barcelona/
LOCATION:Spanje\, Spain
CATEGORIES:Congres,Vakbeurs
END:VEVENT
BEGIN:VEVENT
DTSTART;VALUE=DATE:20261103
DTEND;VALUE=DATE:20261107
DTSTAMP:20260420T012947
CREATED:20250617T125037Z
LAST-MODIFIED:20251209T145415Z
UID:325-1793664000-1794009599@events.wateralliance.nl
SUMMARY:Ecomondo
DESCRIPTION:Deze website is alleen toegankelijk voor Water Alliance leden.\nAanmelden
URL:https://events.wateralliance.nl/event/ecomondo/
LOCATION:Italië\, Italy
CATEGORIES:Congres,met Water Alliance,Vakbeurs
END:VEVENT
BEGIN:VEVENT
DTSTART;VALUE=DATE:20261110
DTEND;VALUE=DATE:20261113
DTSTAMP:20260420T012947
CREATED:20250718T100951Z
LAST-MODIFIED:20250801T083756Z
UID:883-1794268800-1794527999@events.wateralliance.nl
SUMMARY:BrauBeviale
DESCRIPTION:Deze website is alleen toegankelijk voor Water Alliance leden.\nAanmelden
URL:https://events.wateralliance.nl/event/braubeviale/
LOCATION:Duitsland\, Germany
CATEGORIES:Vakbeurs
END:VEVENT
BEGIN:VEVENT
DTSTART;VALUE=DATE:20261117
DTEND;VALUE=DATE:20261120
DTSTAMP:20260420T012947
CREATED:20250624T134524Z
LAST-MODIFIED:20250801T083721Z
UID:571-1794873600-1795132799@events.wateralliance.nl
SUMMARY:Aquamate Asia
DESCRIPTION:Deze website is alleen toegankelijk voor Water Alliance leden.\nAanmelden
URL:https://events.wateralliance.nl/event/aquamate-asia/
LOCATION:Maleisië\, Malaysia
CATEGORIES:Congres,Vakbeurs
END:VEVENT
BEGIN:VEVENT
DTSTART;VALUE=DATE:20261125
DTEND;VALUE=DATE:20261128
DTSTAMP:20260420T012947
CREATED:20251126T081532Z
LAST-MODIFIED:20260129T081632Z
UID:1281-1795564800-1795823999@events.wateralliance.nl
SUMMARY:Aquatech Asia
DESCRIPTION:Deze website is alleen toegankelijk voor Water Alliance leden.\nAanmelden
URL:https://events.wateralliance.nl/event/aquatech-asia/
LOCATION:Thailand\, Thailand
CATEGORIES:Vakbeurs
END:VEVENT
BEGIN:VEVENT
DTSTART;VALUE=DATE:20261126
DTEND;VALUE=DATE:20261128
DTSTAMP:20260420T012947
CREATED:20260108T134857Z
LAST-MODIFIED:20260108T134857Z
UID:1343-1795651200-1795823999@events.wateralliance.nl
SUMMARY:Accadueo - H2O
DESCRIPTION:Deze website is alleen toegankelijk voor Water Alliance leden.\nAanmelden
URL:https://events.wateralliance.nl/event/accadueo-h2o-2/
LOCATION:Italië\, Italy
CATEGORIES:Vakbeurs
END:VEVENT
BEGIN:VEVENT
DTSTART;VALUE=DATE:20270112
DTEND;VALUE=DATE:20270116
DTSTAMP:20260420T012947
CREATED:20250630T115227Z
LAST-MODIFIED:20250703T121237Z
UID:645-1799712000-1800057599@events.wateralliance.nl
SUMMARY:InfraTech
DESCRIPTION:Deze website is alleen toegankelijk voor Water Alliance leden.\nAanmelden
URL:https://events.wateralliance.nl/event/645/
LOCATION:Nederland\, Netherlands
CATEGORIES:Vakbeurs
END:VEVENT
BEGIN:VEVENT
DTSTART;VALUE=DATE:20270201
DTEND;VALUE=DATE:20270206
DTSTAMP:20260420T012947
CREATED:20250701T122933Z
LAST-MODIFIED:20250724T111402Z
UID:679-1801440000-1801871999@events.wateralliance.nl
SUMMARY:BouwBeurs
DESCRIPTION:Deze website is alleen toegankelijk voor Water Alliance leden.\nAanmelden
URL:https://events.wateralliance.nl/event/bouwbeurs/
LOCATION:Nederland\, Netherlands
CATEGORIES:Vakbeurs
END:VEVENT
BEGIN:VEVENT
DTSTART;VALUE=DATE:20270216
DTEND;VALUE=DATE:20270219
DTSTAMP:20260420T012947
CREATED:20260120T141902Z
LAST-MODIFIED:20260120T141959Z
UID:1385-1802736000-1802995199@events.wateralliance.nl
SUMMARY:Smagua
DESCRIPTION:Deze website is alleen toegankelijk voor Water Alliance leden.\nAanmelden
URL:https://events.wateralliance.nl/event/smagua/
LOCATION:Spanje\, Spain
CATEGORIES:Vakbeurs
END:VEVENT
BEGIN:VEVENT
DTSTART;VALUE=DATE:20270223
DTEND;VALUE=DATE:20270227
DTSTAMP:20260420T012947
CREATED:20250718T092438Z
LAST-MODIFIED:20250801T083635Z
UID:895-1803340800-1803686399@events.wateralliance.nl
SUMMARY:Anuga FoodTec
DESCRIPTION:Deze website is alleen toegankelijk voor Water Alliance leden.\nAanmelden
URL:https://events.wateralliance.nl/event/anuga-foodtec/
LOCATION:Duitsland\, Germany
CATEGORIES:Vakbeurs
END:VEVENT
BEGIN:VEVENT
DTSTART;VALUE=DATE:20270309
DTEND;VALUE=DATE:20270313
DTSTAMP:20260420T012947
CREATED:20250701T132601Z
LAST-MODIFIED:20250703T121037Z
UID:718-1804550400-1804895999@events.wateralliance.nl
SUMMARY:Aquatech Amsterdam
DESCRIPTION:Deze website is alleen toegankelijk voor Water Alliance leden.\nAanmelden
URL:https://events.wateralliance.nl/event/aquatech-amsterdam/
LOCATION:Nederland\, Netherlands
CATEGORIES:met Water Alliance,Vakbeurs
END:VEVENT
BEGIN:VEVENT
DTSTART;VALUE=DATE:20270316
DTEND;VALUE=DATE:20270319
DTSTAMP:20260420T012947
CREATED:20251016T074824Z
LAST-MODIFIED:20251016T074848Z
UID:1213-1805155200-1805414399@events.wateralliance.nl
SUMMARY:SEA Asia
DESCRIPTION:Deze website is alleen toegankelijk voor Water Alliance leden.\nAanmelden
URL:https://events.wateralliance.nl/event/1213/
LOCATION:Singapore\, Singapore
CATEGORIES:Congres,Vakbeurs
END:VEVENT
BEGIN:VEVENT
DTSTART;VALUE=DATE:20270317
DTEND;VALUE=DATE:20270320
DTSTAMP:20260420T012947
CREATED:20250630T133759Z
LAST-MODIFIED:20250703T130738Z
UID:655-1805241600-1805500799@events.wateralliance.nl
SUMMARY:Water Philippines
DESCRIPTION:Deze website is alleen toegankelijk voor Water Alliance leden.\nAanmelden
URL:https://events.wateralliance.nl/event/water-philippines/
LOCATION:Filipijnen\, Philippines
CATEGORIES:Vakbeurs
END:VEVENT
BEGIN:VEVENT
DTSTART;VALUE=DATE:20270420
DTEND;VALUE=DATE:20270425
DTSTAMP:20260420T012947
CREATED:20251121T095008Z
LAST-MODIFIED:20251121T103108Z
UID:1263-1808179200-1808611199@events.wateralliance.nl
SUMMARY:Expomin
DESCRIPTION:Deze website is alleen toegankelijk voor Water Alliance leden.\nAanmelden
URL:https://events.wateralliance.nl/event/expomin/
LOCATION:Chili\, Chile
CATEGORIES:Vakbeurs
END:VEVENT
END:VCALENDAR