BEGIN:VCALENDAR
VERSION:2.0
PRODID:-//Water Alliance Events - ECPv6.14.2//NONSGML v1.0//EN
CALSCALE:GREGORIAN
METHOD:PUBLISH
X-WR-CALNAME:Water Alliance Events
X-ORIGINAL-URL:https://events.wateralliance.nl
X-WR-CALDESC:Evenementen voor Water Alliance Events
REFRESH-INTERVAL;VALUE=DURATION:PT1H
X-Robots-Tag:noindex
X-PUBLISHED-TTL:PT1H
BEGIN:VTIMEZONE
TZID:UTC
BEGIN:STANDARD
TZOFFSETFROM:+0000
TZOFFSETTO:+0000
TZNAME:UTC
DTSTART:20250101T000000
END:STANDARD
END:VTIMEZONE
BEGIN:VEVENT
DTSTART;VALUE=DATE:20251020
DTEND;VALUE=DATE:20251024
DTSTAMP:20260420T023118
CREATED:20250617T122559Z
LAST-MODIFIED:20250703T134755Z
UID:294-1760918400-1761263999@events.wateralliance.nl
SUMMARY:Saudi Agriculture
DESCRIPTION:Saudi Agriculture richt zich op innovatieve technologieën voor landbouw en waterbeheer in het Midden-Oosten\, met een speciale focus op duurzame voedselproductie en waterefficiëntie. \nMeer informatie via: https://saudi-agriculture.com/
URL:https://events.wateralliance.nl/event/saudi-agriculture/
LOCATION:Saudi-Arabië\, Saudi Arabia
CATEGORIES:Vakbeurs
ATTACH;FMTTYPE=image/png:https://events.wateralliance.nl/wp-content/uploads/2025/06/Format-Events-platform-6.png
END:VEVENT
END:VCALENDAR