BEGIN:VCALENDAR
VERSION:2.0
PRODID:-//Water Alliance Events - ECPv6.14.2//NONSGML v1.0//EN
CALSCALE:GREGORIAN
METHOD:PUBLISH
X-ORIGINAL-URL:https://events.wateralliance.nl
X-WR-CALDESC:Evenementen voor Water Alliance Events
REFRESH-INTERVAL;VALUE=DURATION:PT1H
X-Robots-Tag:noindex
X-PUBLISHED-TTL:PT1H
BEGIN:VTIMEZONE
TZID:UTC
BEGIN:STANDARD
TZOFFSETFROM:+0000
TZOFFSETTO:+0000
TZNAME:UTC
DTSTART:20260101T000000
END:STANDARD
END:VTIMEZONE
BEGIN:VEVENT
DTSTART;VALUE=DATE:20260127
DTEND;VALUE=DATE:20260130
DTSTAMP:20260419T190908
CREATED:20250618T131926Z
LAST-MODIFIED:20250703T132519Z
UID:432-1769472000-1769731199@events.wateralliance.nl
SUMMARY:IPPE Expo
DESCRIPTION:Grote internationale beurs voor de voedingsmiddelenindustrie\, met o.a. aandacht voor waterverbruik\, verwerking en duurzaamheid in de productieketen. \nMeer informatie: https://www.ippexpo.org/
URL:https://events.wateralliance.nl/event/ippe-expo/
LOCATION:Verenigde Staten\, United States
CATEGORIES:Vakbeurs
ATTACH;FMTTYPE=image/png:https://events.wateralliance.nl/wp-content/uploads/2025/06/Format-Events-platform-19.png
END:VEVENT
END:VCALENDAR