BEGIN:VCALENDAR
VERSION:2.0
PRODID:-//Water Alliance Events - ECPv6.14.2//NONSGML v1.0//EN
CALSCALE:GREGORIAN
METHOD:PUBLISH
X-ORIGINAL-URL:https://events.wateralliance.nl
X-WR-CALDESC:Evenementen voor Water Alliance Events
REFRESH-INTERVAL;VALUE=DURATION:PT1H
X-Robots-Tag:noindex
X-PUBLISHED-TTL:PT1H
BEGIN:VTIMEZONE
TZID:UTC
BEGIN:STANDARD
TZOFFSETFROM:+0000
TZOFFSETTO:+0000
TZNAME:UTC
DTSTART:20250101T000000
END:STANDARD
END:VTIMEZONE
BEGIN:VEVENT
DTSTART;VALUE=DATE:20251208
DTEND;VALUE=DATE:20251211
DTSTAMP:20260419T203033
CREATED:20250723T091605Z
LAST-MODIFIED:20250725T084747Z
UID:947-1765152000-1765411199@events.wateralliance.nl
SUMMARY:Innovation-Driven Water Sustainability Conference
DESCRIPTION:Deze website is alleen toegankelijk voor Water Alliance leden.\nAanmelden
URL:https://events.wateralliance.nl/event/innovation-driven-water-sustainability-conference/
LOCATION:Saudi-Arabië\, Saudi Arabia
CATEGORIES:Congres
END:VEVENT
BEGIN:VEVENT
DTSTART;VALUE=DATE:20251208
DTEND;VALUE=DATE:20251213
DTSTAMP:20260419T203033
CREATED:20250617T132915Z
LAST-MODIFIED:20250703T133144Z
UID:334-1765152000-1765583999@events.wateralliance.nl
SUMMARY:IWA Water and Development Congress & Exhibition
DESCRIPTION:Deze website is alleen toegankelijk voor Water Alliance leden.\nAanmelden
URL:https://events.wateralliance.nl/event/iwa-water-and-development-congress-exhibition/
LOCATION:Thailand\, Thailand
CATEGORIES:Congres,Vakbeurs
END:VEVENT
END:VCALENDAR