BEGIN:VCALENDAR
VERSION:2.0
PRODID:-//Water Alliance Events - ECPv6.14.2//NONSGML v1.0//EN
CALSCALE:GREGORIAN
METHOD:PUBLISH
X-ORIGINAL-URL:https://events.wateralliance.nl
X-WR-CALDESC:Evenementen voor Water Alliance Events
REFRESH-INTERVAL;VALUE=DURATION:PT1H
X-Robots-Tag:noindex
X-PUBLISHED-TTL:PT1H
BEGIN:VTIMEZONE
TZID:UTC
BEGIN:STANDARD
TZOFFSETFROM:+0000
TZOFFSETTO:+0000
TZNAME:UTC
DTSTART:20260101T000000
END:STANDARD
END:VTIMEZONE
BEGIN:VEVENT
DTSTART;VALUE=DATE:20260209
DTEND;VALUE=DATE:20260212
DTSTAMP:20260419T232453
CREATED:20250618T134921Z
LAST-MODIFIED:20251117T145945Z
UID:442-1770595200-1770854399@events.wateralliance.nl
SUMMARY:WEX Global
DESCRIPTION:Wil jij in twee dagen toegang krijgen tot de belangrijkste spelers in de Zuid-Europese water- en energiesector? Je netwerk uitbreiden\, nieuwe samenwerkingen aangaan en internationale zichtbaarheid opbouwen? Dan is WEX Global 2026 dé plek om te zijn.Tijdens de 20e editie op 9 & 10 februari komen ruim 250 top-experts uit 45+ landen samen. Centraal staan digitale en circulaire oplossingen voor water\, energie en klimaat. \nNederland in de spotlight\nNederland is opnieuw exclusief countrypartner – de enige. Daarmee krijgen we een unieke positie en uitzonderlijke zichtbaarheid. Al voor de vierde keer organiseren we de NL Lounge (Dutch Café): dé ontmoetingsplek waar Nederlandse bedrijven zich presenteren en internationale contacten leggen. \nWat levert deelname jou op?\n\nKrachtig netwerk in Zuid-Europa – ontmoet experts en besluitvormers uit o.a. Spanje en Portugal.\nNieuwe leads & partnerships – via matchmaking\, ronde tafels en themasessies.\nDirecte zichtbaarheid – dankzij de NL Lounge\, branding en onze rol als countrypartner.\nToegang tot topkennis – meer dan 90 sprekers delen hun visie en ervaring.\nInnovatiekansen – pitch jouw technologie in het Innovation Forum en maak kans op de WEX Global Award.\nSpeciaal voor agri & water – sessie The Future of Agricultural Water Use over regeneratieve landbouw\, precisie-irrigatie en digitale tools.\n\nProgramma highlights\n\nSustainable Water Stewardship\nAI & Digital Transformation in the Water Cycle\nCollaboration & Sustainable Development\nInnovation & the Circular Economy\n\nBekijk het volledige programma: wex-global.com/agenda \nDe netwerkdynamiek\nTwee dagen lang ontmoet je elkaar steeds opnieuw – tijdens conferenties\, matchmaking\, ronde tafels\, borrels en de feestelijke award night. \nEn verder\n\nInnovation Forum – zes korte pitches van vernieuwende technologieën\, met jurydebat en awarduitreiking tijdens het galadiner.\nWEX Global Awards – doe mee in categorieën als Innovation in Water\, Circularity in Decarbonising\, Digitalised Water Management en Healthy Watersheds.\n\nMeld je ook aan!\nOnze gezamenlijke bijdrage is zichtbaar op de stand\, met een banner waarop de logo’s van alle deelnemers en de herkenbare NL-branding. Daarnaast profiteer je als deelnemer van een uitgebreid pakket dat onder meer het volgende omvat: \n\nTwee overnachtingen in het WEX Global hotel (9 & 10 februari)\nVijf één-op-één business meetings (30 minuten\, vooraf gekwalificeerd)\nVolledige toegang tot alle conferentiesessies en workshops\nWelcome Cocktail Reception (9 februari)\nGala Dinner & Awards Ceremony (10 februari)\nNetworking lunches: Exchange & Farewell lunches (10 & 11 februari)\nDeelname aan site visits (9 februari)\nLuchthaventransfers en toegang tot alle presentaties na afloop van de conferentie\n\nMet deze unieke combinatie van kennisdeling\, netwerkmogelijkheden en zichtbaarheid biedt WEX Global 2026 een waardevolle kans om bij te dragen aan de toekomst van waterbeheer\, energie en klimaatoplossingen. \nDe kosten voor deelname bedraagt €1298\,- excl. btw. \nMeer informatie of direct aanmelden: https://wateralliance.nl/event/wex-global-2026/
URL:https://events.wateralliance.nl/event/wex-global/
LOCATION:Spanje\, Spain
CATEGORIES:Congres
ATTACH;FMTTYPE=image/png:https://events.wateralliance.nl/wp-content/uploads/2025/06/Format-Events-platform-22.png
END:VEVENT
END:VCALENDAR