BEGIN:VCALENDAR
VERSION:2.0
PRODID:-//Water Alliance Events - ECPv6.14.2//NONSGML v1.0//EN
CALSCALE:GREGORIAN
METHOD:PUBLISH
X-ORIGINAL-URL:https://events.wateralliance.nl
X-WR-CALDESC:Evenementen voor Water Alliance Events
REFRESH-INTERVAL;VALUE=DURATION:PT1H
X-Robots-Tag:noindex
X-PUBLISHED-TTL:PT1H
BEGIN:VTIMEZONE
TZID:UTC
BEGIN:STANDARD
TZOFFSETFROM:+0000
TZOFFSETTO:+0000
TZNAME:UTC
DTSTART:20260101T000000
END:STANDARD
END:VTIMEZONE
BEGIN:VEVENT
DTSTART;VALUE=DATE:20260627
DTEND;VALUE=DATE:20260704
DTSTAMP:20260420T021237
CREATED:20250724T113608Z
LAST-MODIFIED:20250804T110807Z
UID:873-1782518400-1783123199@events.wateralliance.nl
SUMMARY:Water in Industry
DESCRIPTION:Water in Industry (WIN) is een vierdaagse conferentie gericht op watermanagement binnen de industrie. Het programma omvat: \n\nTechnologische oplossingen voor industrieel waterbeheer\nBedrijfsbezoeken bij industriepartners\nWorkshops & cursussen voor verdieping van industriewaterkennis\nSessies gericht op young professionals\nFocus op kennisuitwisseling en best practices in industriewatertechnologie\n\nDe conferentie brengt onderzoekers\, technologieleveranciers\, industriële waterprofessionals en beleidsmakers samen in een interactief en praktijkgericht programma. \nMeer informatie via: https://win2026.nl/
URL:https://events.wateralliance.nl/event/win-2026/
LOCATION:Nederland\, Netherlands
CATEGORIES:Congres
ATTACH;FMTTYPE=image/png:https://events.wateralliance.nl/wp-content/uploads/2025/07/Format-Events-platform-95.png
END:VEVENT
END:VCALENDAR