BEGIN:VCALENDAR
VERSION:2.0
PRODID:-//Water Alliance Events - ECPv6.14.2//NONSGML v1.0//EN
CALSCALE:GREGORIAN
METHOD:PUBLISH
X-ORIGINAL-URL:https://events.wateralliance.nl
X-WR-CALDESC:Evenementen voor Water Alliance Events
REFRESH-INTERVAL;VALUE=DURATION:PT1H
X-Robots-Tag:noindex
X-PUBLISHED-TTL:PT1H
BEGIN:VTIMEZONE
TZID:UTC
BEGIN:STANDARD
TZOFFSETFROM:+0000
TZOFFSETTO:+0000
TZNAME:UTC
DTSTART:20250101T000000
END:STANDARD
END:VTIMEZONE
BEGIN:VEVENT
DTSTART;VALUE=DATE:20250929
DTEND;VALUE=DATE:20251002
DTSTAMP:20260419T232452
CREATED:20250616T130922Z
LAST-MODIFIED:20250722T083846Z
UID:149-1759104000-1759363199@events.wateralliance.nl
SUMMARY:WEFTEC Chicago 2025
DESCRIPTION:Deze website is alleen toegankelijk voor Water Alliance leden.\nAanmelden
URL:https://events.wateralliance.nl/event/weftec-chicago-2025/
LOCATION:Verenigde Staten\, United States
CATEGORIES:met Water Alliance,Vakbeurs
END:VEVENT
BEGIN:VEVENT
DTSTART;VALUE=DATE:20251006
DTEND;VALUE=DATE:20251008
DTSTAMP:20260419T232452
CREATED:20250625T133747Z
LAST-MODIFIED:20250703T144723Z
UID:578-1759708800-1759881599@events.wateralliance.nl
SUMMARY:Wetsus Congres
DESCRIPTION:Deze website is alleen toegankelijk voor Water Alliance leden.\nAanmelden
URL:https://events.wateralliance.nl/event/wetsus-congres/
LOCATION:Nederland\, Netherlands
CATEGORIES:Congres
END:VEVENT
BEGIN:VEVENT
DTSTART;VALUE=DATE:20251008
DTEND;VALUE=DATE:20251010
DTSTAMP:20260419T232452
CREATED:20250722T143735Z
LAST-MODIFIED:20250805T122734Z
UID:938-1759881600-1760054399@events.wateralliance.nl
SUMMARY:Asset Management & Capital Projects Conference
DESCRIPTION:Deze website is alleen toegankelijk voor Water Alliance leden.\nAanmelden
URL:https://events.wateralliance.nl/event/asset-management-capital-projects-conference/
LOCATION:Verenigd Koninkrijk\, United Kingdom
CATEGORIES:Congres
END:VEVENT
BEGIN:VEVENT
DTSTART;VALUE=DATE:20251014
DTEND;VALUE=DATE:20251017
DTSTAMP:20260419T232452
CREATED:20250617T122223Z
LAST-MODIFIED:20250703T143741Z
UID:288-1760400000-1760659199@events.wateralliance.nl
SUMMARY:IFAT India
DESCRIPTION:Deze website is alleen toegankelijk voor Water Alliance leden.\nAanmelden
URL:https://events.wateralliance.nl/event/ifat-india/
LOCATION:India\, India
CATEGORIES:Vakbeurs
END:VEVENT
BEGIN:VEVENT
DTSTART;VALUE=DATE:20251020
DTEND;VALUE=DATE:20251024
DTSTAMP:20260419T232452
CREATED:20250617T122559Z
LAST-MODIFIED:20250703T134755Z
UID:294-1760918400-1761263999@events.wateralliance.nl
SUMMARY:Saudi Agriculture
DESCRIPTION:Deze website is alleen toegankelijk voor Water Alliance leden.\nAanmelden
URL:https://events.wateralliance.nl/event/saudi-agriculture/
LOCATION:Saudi-Arabië\, Saudi Arabia
CATEGORIES:Vakbeurs
END:VEVENT
BEGIN:VEVENT
DTSTART;VALUE=DATE:20251021
DTEND;VALUE=DATE:20251024
DTSTAMP:20260419T232452
CREATED:20250716T074534Z
LAST-MODIFIED:20250804T115100Z
UID:866-1761004800-1761263999@events.wateralliance.nl
SUMMARY:Vatten2025
DESCRIPTION:Deze website is alleen toegankelijk voor Water Alliance leden.\nAanmelden
URL:https://events.wateralliance.nl/event/vatten2025/
LOCATION:Zweden\, Sweden
CATEGORIES:Congres,Vakbeurs
END:VEVENT
BEGIN:VEVENT
DTSTART;VALUE=DATE:20251023
DTEND;VALUE=DATE:20251024
DTSTAMP:20260419T232452
CREATED:20250718T102130Z
LAST-MODIFIED:20250722T133507Z
UID:891-1761177600-1761263999@events.wateralliance.nl
SUMMARY:Aquarama
DESCRIPTION:Deze website is alleen toegankelijk voor Water Alliance leden.\nAanmelden
URL:https://events.wateralliance.nl/event/aquarama/
LOCATION:België\, Belgium
CATEGORIES:Congres,Vakbeurs
END:VEVENT
BEGIN:VEVENT
DTSTART;VALUE=DATE:20251027
DTEND;VALUE=DATE:20251029
DTSTAMP:20260419T232452
CREATED:20250630T114139Z
LAST-MODIFIED:20250703T134428Z
UID:641-1761523200-1761695999@events.wateralliance.nl
SUMMARY:Water Innovation Europe
DESCRIPTION:Deze website is alleen toegankelijk voor Water Alliance leden.\nAanmelden
URL:https://events.wateralliance.nl/event/water-innovation-europe/
LOCATION:Denemarken\, Denmark
CATEGORIES:Congres
END:VEVENT
BEGIN:VEVENT
DTSTART;VALUE=DATE:20251029
DTEND;VALUE=DATE:20251101
DTSTAMP:20260419T232452
CREATED:20250617T123750Z
LAST-MODIFIED:20250703T143332Z
UID:316-1761696000-1761955199@events.wateralliance.nl
SUMMARY:SWITCH
DESCRIPTION:Deze website is alleen toegankelijk voor Water Alliance leden.\nAanmelden
URL:https://events.wateralliance.nl/event/switch/
LOCATION:Singapore\, Singapore
CATEGORIES:Congres,Vakbeurs
END:VEVENT
BEGIN:VEVENT
DTSTART;VALUE=DATE:20251029
DTEND;VALUE=DATE:20251101
DTSTAMP:20260419T232452
CREATED:20250701T104216Z
LAST-MODIFIED:20250703T134318Z
UID:672-1761696000-1761955199@events.wateralliance.nl
SUMMARY:Taiwan International Water Week
DESCRIPTION:Deze website is alleen toegankelijk voor Water Alliance leden.\nAanmelden
URL:https://events.wateralliance.nl/event/taiwan-international-water-week/
LOCATION:Taiwan\, Taiwan
CATEGORIES:Vakbeurs
END:VEVENT
END:VCALENDAR