BEGIN:VCALENDAR
VERSION:2.0
PRODID:-//Water Alliance Events - ECPv6.14.2//NONSGML v1.0//EN
CALSCALE:GREGORIAN
METHOD:PUBLISH
X-ORIGINAL-URL:https://events.wateralliance.nl
X-WR-CALDESC:Evenementen voor Water Alliance Events
REFRESH-INTERVAL;VALUE=DURATION:PT1H
X-Robots-Tag:noindex
X-PUBLISHED-TTL:PT1H
BEGIN:VTIMEZONE
TZID:UTC
BEGIN:STANDARD
TZOFFSETFROM:+0000
TZOFFSETTO:+0000
TZNAME:UTC
DTSTART:20250101T000000
END:STANDARD
END:VTIMEZONE
BEGIN:VEVENT
DTSTART;VALUE=DATE:20260407
DTEND;VALUE=DATE:20260410
DTSTAMP:20260419T131714
CREATED:20250624T085517Z
LAST-MODIFIED:20250703T130506Z
UID:489-1775520000-1775779199@events.wateralliance.nl
SUMMARY:Middle East Energy
DESCRIPTION:Deze website is alleen toegankelijk voor Water Alliance leden.\nAanmelden
URL:https://events.wateralliance.nl/event/middle-east-energy/
LOCATION:Verenigde Arabische Emiraten\, United Arab Emirates
CATEGORIES:Vakbeurs
END:VEVENT
BEGIN:VEVENT
DTSTART;VALUE=DATE:20260210
DTEND;VALUE=DATE:20260213
DTSTAMP:20260419T131714
CREATED:20250618T135630Z
LAST-MODIFIED:20251218T135455Z
UID:447-1770681600-1770940799@events.wateralliance.nl
SUMMARY:E-World Energy
DESCRIPTION:Deze website is alleen toegankelijk voor Water Alliance leden.\nAanmelden
URL:https://events.wateralliance.nl/event/e-world-energy/
LOCATION:Duitsland\, Germany
CATEGORIES:Congres,Vakbeurs
END:VEVENT
BEGIN:VEVENT
DTSTART;VALUE=DATE:20260128
DTEND;VALUE=DATE:20260131
DTSTAMP:20260419T131714
CREATED:20250618T133831Z
LAST-MODIFIED:20250703T132309Z
UID:439-1769558400-1769817599@events.wateralliance.nl
SUMMARY:InterAqua International Water Solution Exhibition
DESCRIPTION:Deze website is alleen toegankelijk voor Water Alliance leden.\nAanmelden
URL:https://events.wateralliance.nl/event/interaqua-international-water-solution-exhibition/
LOCATION:Japan\, Japan
CATEGORIES:Vakbeurs
END:VEVENT
BEGIN:VEVENT
DTSTART;VALUE=DATE:20260126
DTEND;VALUE=DATE:20260129
DTSTAMP:20260419T131714
CREATED:20250618T113204Z
LAST-MODIFIED:20250703T132804Z
UID:418-1769385600-1769644799@events.wateralliance.nl
SUMMARY:Cleantech Forum
DESCRIPTION:Deze website is alleen toegankelijk voor Water Alliance leden.\nAanmelden
URL:https://events.wateralliance.nl/event/cleantech-forum/
LOCATION:Verenigde Staten\, United States
CATEGORIES:Congres
END:VEVENT
BEGIN:VEVENT
DTSTART;VALUE=DATE:20260113
DTEND;VALUE=DATE:20260117
DTSTAMP:20260419T131714
CREATED:20250618T112922Z
LAST-MODIFIED:20250703T132901Z
UID:414-1768262400-1768607999@events.wateralliance.nl
SUMMARY:World Future Energy Summit
DESCRIPTION:Deze website is alleen toegankelijk voor Water Alliance leden.\nAanmelden
URL:https://events.wateralliance.nl/event/world-future-energy-summit/
LOCATION:Verenigde Arabische Emiraten\, United Arab Emirates
CATEGORIES:Congres,Vakbeurs
END:VEVENT
BEGIN:VEVENT
DTSTART;VALUE=DATE:20251202
DTEND;VALUE=DATE:20251205
DTSTAMP:20260419T131714
CREATED:20250624T072006Z
LAST-MODIFIED:20250703T133238Z
UID:471-1764633600-1764892799@events.wateralliance.nl
SUMMARY:Innovatiemissie België: Smart farming in akkerbouw en open teelten
DESCRIPTION:Deze website is alleen toegankelijk voor Water Alliance leden.\nAanmelden
URL:https://events.wateralliance.nl/event/innovatiemissie-belgie-smart-farming-in-akkerbouw-en-open-teelten/
LOCATION:België\, Belgium
CATEGORIES:Handelsmissie
END:VEVENT
BEGIN:VEVENT
DTSTART;VALUE=DATE:20251029
DTEND;VALUE=DATE:20251101
DTSTAMP:20260419T131714
CREATED:20250617T123750Z
LAST-MODIFIED:20250703T143332Z
UID:316-1761696000-1761955199@events.wateralliance.nl
SUMMARY:SWITCH
DESCRIPTION:Deze website is alleen toegankelijk voor Water Alliance leden.\nAanmelden
URL:https://events.wateralliance.nl/event/switch/
LOCATION:Singapore\, Singapore
CATEGORIES:Congres,Vakbeurs
END:VEVENT
BEGIN:VEVENT
DTSTART;VALUE=DATE:20251006
DTEND;VALUE=DATE:20251008
DTSTAMP:20260419T131714
CREATED:20250625T133747Z
LAST-MODIFIED:20250703T144723Z
UID:578-1759708800-1759881599@events.wateralliance.nl
SUMMARY:Wetsus Congres
DESCRIPTION:Deze website is alleen toegankelijk voor Water Alliance leden.\nAanmelden
URL:https://events.wateralliance.nl/event/wetsus-congres/
LOCATION:Nederland\, Netherlands
CATEGORIES:Congres
END:VEVENT
END:VCALENDAR