BEGIN:VCALENDAR
VERSION:2.0
PRODID:-//Water Alliance Events - ECPv6.14.2//NONSGML v1.0//EN
CALSCALE:GREGORIAN
METHOD:PUBLISH
X-ORIGINAL-URL:https://events.wateralliance.nl
X-WR-CALDESC:Evenementen voor Water Alliance Events
REFRESH-INTERVAL;VALUE=DURATION:PT1H
X-Robots-Tag:noindex
X-PUBLISHED-TTL:PT1H
BEGIN:VTIMEZONE
TZID:UTC
BEGIN:STANDARD
TZOFFSETFROM:+0000
TZOFFSETTO:+0000
TZNAME:UTC
DTSTART:20250101T000000
END:STANDARD
END:VTIMEZONE
BEGIN:VEVENT
DTSTART;VALUE=DATE:20260317
DTEND;VALUE=DATE:20260319
DTSTAMP:20260421T130835
CREATED:20250630T132404Z
LAST-MODIFIED:20250703T130634Z
UID:652-1773705600-1773878399@events.wateralliance.nl
SUMMARY:World Agri-Tech Innovation Summit
DESCRIPTION:Deze website is alleen toegankelijk voor Water Alliance leden.\nAanmelden
URL:https://events.wateralliance.nl/event/world-agri-tech-innovation-summit/
LOCATION:Verenigde Staten\, United States
CATEGORIES:Congres
END:VEVENT
BEGIN:VEVENT
DTSTART;VALUE=DATE:20260127
DTEND;VALUE=DATE:20260131
DTSTAMP:20260421T130835
CREATED:20250618T132441Z
LAST-MODIFIED:20250703T132424Z
UID:435-1769472000-1769817599@events.wateralliance.nl
SUMMARY:IPM Essen
DESCRIPTION:Deze website is alleen toegankelijk voor Water Alliance leden.\nAanmelden
URL:https://events.wateralliance.nl/event/ipm-essen/
LOCATION:Duitsland\, Germany
CATEGORIES:Vakbeurs
END:VEVENT
BEGIN:VEVENT
DTSTART;VALUE=DATE:20251202
DTEND;VALUE=DATE:20251205
DTSTAMP:20260421T130835
CREATED:20250624T072006Z
LAST-MODIFIED:20250703T133238Z
UID:471-1764633600-1764892799@events.wateralliance.nl
SUMMARY:Innovatiemissie België: Smart farming in akkerbouw en open teelten
DESCRIPTION:Deze website is alleen toegankelijk voor Water Alliance leden.\nAanmelden
URL:https://events.wateralliance.nl/event/innovatiemissie-belgie-smart-farming-in-akkerbouw-en-open-teelten/
LOCATION:België\, Belgium
CATEGORIES:Handelsmissie
END:VEVENT
BEGIN:VEVENT
DTSTART;VALUE=DATE:20251020
DTEND;VALUE=DATE:20251024
DTSTAMP:20260421T130835
CREATED:20250617T122559Z
LAST-MODIFIED:20250703T134755Z
UID:294-1760918400-1761263999@events.wateralliance.nl
SUMMARY:Saudi Agriculture
DESCRIPTION:Deze website is alleen toegankelijk voor Water Alliance leden.\nAanmelden
URL:https://events.wateralliance.nl/event/saudi-agriculture/
LOCATION:Saudi-Arabië\, Saudi Arabia
CATEGORIES:Vakbeurs
END:VEVENT
BEGIN:VEVENT
DTSTART;VALUE=DATE:20250902
DTEND;VALUE=DATE:20250905
DTSTAMP:20260421T130836
CREATED:20250617T115634Z
LAST-MODIFIED:20250703T144151Z
UID:266-1756771200-1757030399@events.wateralliance.nl
SUMMARY:Global Water Expo
DESCRIPTION:Deze website is alleen toegankelijk voor Water Alliance leden.\nAanmelden
URL:https://events.wateralliance.nl/event/global-water-expo/
LOCATION:Saudi-Arabië\, Saudi Arabia
CATEGORIES:Vakbeurs
END:VEVENT
BEGIN:VEVENT
DTSTART;VALUE=DATE:20250902
DTEND;VALUE=DATE:20250905
DTSTAMP:20260421T130836
CREATED:20250617T114246Z
LAST-MODIFIED:20250811T102719Z
UID:262-1756771200-1757030399@events.wateralliance.nl
SUMMARY:Aquatech Mexico
DESCRIPTION:Deze website is alleen toegankelijk voor Water Alliance leden.\nAanmelden
URL:https://events.wateralliance.nl/event/aquatech-mexico-2025/
LOCATION:Mexico\, Mexico
CATEGORIES:Vakbeurs
END:VEVENT
BEGIN:VEVENT
DTSTART;VALUE=DATE:20250813
DTEND;VALUE=DATE:20250814
DTSTAMP:20260421T130836
CREATED:20250701T125412Z
LAST-MODIFIED:20250701T125412Z
UID:700-1755043200-1755129599@events.wateralliance.nl
SUMMARY:Waterwise Irrigation Expo
DESCRIPTION:Deze website is alleen toegankelijk voor Water Alliance leden.\nAanmelden
URL:https://events.wateralliance.nl/event/waterwise-irrigation-expo/
LOCATION:Australië\, Australia
CATEGORIES:Vakbeurs
END:VEVENT
END:VCALENDAR